BEGIN:VCALENDAR
VERSION:2.0
PRODID:-//Fraser River Valley Lions Club - ECPv6.15.20//NONSGML v1.0//EN
CALSCALE:GREGORIAN
METHOD:PUBLISH
X-ORIGINAL-URL:https://fraservalleylions.org
X-WR-CALDESC:Events for Fraser River Valley Lions Club
REFRESH-INTERVAL;VALUE=DURATION:PT1H
X-Robots-Tag:noindex
X-PUBLISHED-TTL:PT1H
BEGIN:VTIMEZONE
TZID:America/Denver
BEGIN:DAYLIGHT
TZOFFSETFROM:-0700
TZOFFSETTO:-0600
TZNAME:MDT
DTSTART:20250309T090000
END:DAYLIGHT
BEGIN:STANDARD
TZOFFSETFROM:-0600
TZOFFSETTO:-0700
TZNAME:MST
DTSTART:20251102T080000
END:STANDARD
BEGIN:DAYLIGHT
TZOFFSETFROM:-0700
TZOFFSETTO:-0600
TZNAME:MDT
DTSTART:20260308T090000
END:DAYLIGHT
BEGIN:STANDARD
TZOFFSETFROM:-0600
TZOFFSETTO:-0700
TZNAME:MST
DTSTART:20261101T080000
END:STANDARD
BEGIN:DAYLIGHT
TZOFFSETFROM:-0700
TZOFFSETTO:-0600
TZNAME:MDT
DTSTART:20270314T090000
END:DAYLIGHT
BEGIN:STANDARD
TZOFFSETFROM:-0600
TZOFFSETTO:-0700
TZNAME:MST
DTSTART:20271107T080000
END:STANDARD
END:VTIMEZONE
BEGIN:VEVENT
DTSTART;TZID=America/Denver:20260801T080000
DTEND;TZID=America/Denver:20260801T150000
DTSTAMP:20260423T140026
CREATED:20250322T194026Z
LAST-MODIFIED:20260316T171909Z
UID:21622-1785571200-1785596400@fraservalleylions.org
SUMMARY:Gravel Bike Race Aide Stations
DESCRIPTION:
URL:https://fraservalleylions.org/event/gravel-bike-race-aide-station/
LOCATION:CO
CATEGORIES:Lions Activity
END:VEVENT
BEGIN:VEVENT
DTSTART;TZID=America/Denver:20260804T080000
DTEND;TZID=America/Denver:20260804T090000
DTSTAMP:20260423T140026
CREATED:20251229T163140Z
LAST-MODIFIED:20260316T171855Z
UID:22774-1785830400-1785834000@fraservalleylions.org
SUMMARY:Lions Club Member Meeting
DESCRIPTION:
URL:https://fraservalleylions.org/event/lions-club-member-meeting-27/
LOCATION:Church of the Eternal Hills\, 100 Meadows Blvd.\, Tabernash\, CO\, 80478\, United States
CATEGORIES:Meeting
END:VEVENT
BEGIN:VEVENT
DTSTART;TZID=America/Denver:20260804T170000
DTEND;TZID=America/Denver:20260804T190000
DTSTAMP:20260423T140026
CREATED:20260315T192726Z
LAST-MODIFIED:20260316T171844Z
UID:23200-1785862800-1785870000@fraservalleylions.org
SUMMARY:New Member Tuesdays - Happy Hour at Vicious Cycle Brewing
DESCRIPTION:
URL:https://fraservalleylions.org/event/new-member-tuesdays-happy-hour-at-vicious-cycle-brewing-2/
LOCATION:Vicious Cycle Brewing\, 751 S Zerex St\, Fraser\, Colorado\, 80442
CATEGORIES:Social Gathering
END:VEVENT
BEGIN:VEVENT
DTSTART;TZID=America/Denver:20260805T093000
DTEND;TZID=America/Denver:20260805T103000
DTSTAMP:20260423T140026
CREATED:20260315T194336Z
LAST-MODIFIED:20260315T194336Z
UID:23220-1785922200-1785925800@fraservalleylions.org
SUMMARY:Grocery Pickup for Mountain Family Center Food Pantry
DESCRIPTION:
URL:https://fraservalleylions.org/event/grocery-pickup-for-mountain-family-center-food-pantry-48/
LOCATION:Mountain Family Center Food Pantry\, 480 E Agate Ave\, Granby\, CO\, 80446\, United States
END:VEVENT
BEGIN:VEVENT
DTSTART;TZID=America/Denver:20260806T170000
DTEND;TZID=America/Denver:20260806T200000
DTSTAMP:20260423T140026
CREATED:20250402T021604Z
LAST-MODIFIED:20260316T171831Z
UID:21744-1786035600-1786046400@fraservalleylions.org
SUMMARY:Thursday Night Music FoodFest - Mardi Gras in August - Cajun & Creole
DESCRIPTION:
URL:https://fraservalleylions.org/event/thursday-night-music-foodfest-8/
LOCATION:Hideaway Park\, 50 Vasquez Road\, Winter Park\, CO\, 80482\, United States
CATEGORIES:Social Gathering
END:VEVENT
BEGIN:VEVENT
DTSTART;TZID=America/Denver:20260810T170000
DTEND;TZID=America/Denver:20260810T180000
DTSTAMP:20260423T140026
CREATED:20251229T164928Z
LAST-MODIFIED:20260316T171817Z
UID:22804-1786381200-1786384800@fraservalleylions.org
SUMMARY:Lions Board Meeting
DESCRIPTION:
URL:https://fraservalleylions.org/event/lions-board-meeting-16/
LOCATION:CO
CATEGORIES:Meeting
END:VEVENT
BEGIN:VEVENT
DTSTART;TZID=America/Denver:20260812T093000
DTEND;TZID=America/Denver:20260812T103000
DTSTAMP:20260423T140026
CREATED:20260315T194425Z
LAST-MODIFIED:20260315T194425Z
UID:23222-1786527000-1786530600@fraservalleylions.org
SUMMARY:Grocery Pickup for Mountain Family Center Food Pantry
DESCRIPTION:
URL:https://fraservalleylions.org/event/grocery-pickup-for-mountain-family-center-food-pantry-49/
LOCATION:Mountain Family Center Food Pantry\, 480 E Agate Ave\, Granby\, CO\, 80446\, United States
END:VEVENT
BEGIN:VEVENT
DTSTART;TZID=America/Denver:20260813T170000
DTEND;TZID=America/Denver:20260813T200000
DTSTAMP:20260423T140026
CREATED:20250402T021743Z
LAST-MODIFIED:20260316T171805Z
UID:21746-1786640400-1786651200@fraservalleylions.org
SUMMARY:Thursday Night Music FoodFest - Bacon Night
DESCRIPTION:
URL:https://fraservalleylions.org/event/thursday-night-music-foodfest-9/
LOCATION:Hideaway Park\, 50 Vasquez Road\, Winter Park\, CO\, 80482\, United States
CATEGORIES:Social Gathering
END:VEVENT
BEGIN:VEVENT
DTSTART;TZID=America/Denver:20260818T080000
DTEND;TZID=America/Denver:20260818T090000
DTSTAMP:20260423T140026
CREATED:20251229T163306Z
LAST-MODIFIED:20260316T171751Z
UID:22776-1787040000-1787043600@fraservalleylions.org
SUMMARY:Lions Club Member Meeting - Business Meeting
DESCRIPTION:
URL:https://fraservalleylions.org/event/lions-club-member-meeting-business-meeting-3/
LOCATION:Church of the Eternal Hills\, 100 Meadows Blvd.\, Tabernash\, CO\, 80478\, United States
CATEGORIES:Meeting
END:VEVENT
BEGIN:VEVENT
DTSTART;TZID=America/Denver:20260819T093000
DTEND;TZID=America/Denver:20260819T103000
DTSTAMP:20260423T140026
CREATED:20260315T194509Z
LAST-MODIFIED:20260315T194509Z
UID:23224-1787131800-1787135400@fraservalleylions.org
SUMMARY:Grocery Pickup for Mountain Family Center Food Pantry
DESCRIPTION:
URL:https://fraservalleylions.org/event/grocery-pickup-for-mountain-family-center-food-pantry-50/
LOCATION:Mountain Family Center Food Pantry\, 480 E Agate Ave\, Granby\, CO\, 80446\, United States
END:VEVENT
BEGIN:VEVENT
DTSTART;TZID=America/Denver:20260820T170000
DTEND;TZID=America/Denver:20260820T200000
DTSTAMP:20260423T140026
CREATED:20250402T022034Z
LAST-MODIFIED:20260316T171736Z
UID:21750-1787245200-1787256000@fraservalleylions.org
SUMMARY:Thursday Night Music FoodFest - Brunch for Dinner
DESCRIPTION:
URL:https://fraservalleylions.org/event/thursday-night-music-foodfest-10/
LOCATION:Hideaway Park\, 50 Vasquez Road\, Winter Park\, CO\, 80482\, United States
CATEGORIES:Social Gathering
END:VEVENT
BEGIN:VEVENT
DTSTART;TZID=America/Denver:20260826T093000
DTEND;TZID=America/Denver:20260826T103000
DTSTAMP:20260423T140026
CREATED:20260315T194548Z
LAST-MODIFIED:20260315T194548Z
UID:23226-1787736600-1787740200@fraservalleylions.org
SUMMARY:Grocery Pickup for Mountain Family Center Food Pantry
DESCRIPTION:
URL:https://fraservalleylions.org/event/grocery-pickup-for-mountain-family-center-food-pantry-51/
LOCATION:Mountain Family Center Food Pantry\, 480 E Agate Ave\, Granby\, CO\, 80446\, United States
END:VEVENT
BEGIN:VEVENT
DTSTART;TZID=America/Denver:20260827T170000
DTEND;TZID=America/Denver:20260827T200000
DTSTAMP:20260423T140026
CREATED:20250402T022138Z
LAST-MODIFIED:20260316T171723Z
UID:21752-1787850000-1787860800@fraservalleylions.org
SUMMARY:Thursday Night Music FoodFest - ??Taking suggestions
DESCRIPTION:
URL:https://fraservalleylions.org/event/thursday-night-music-foodfest-11/
LOCATION:Hideaway Park\, 50 Vasquez Road\, Winter Park\, CO\, 80482\, United States
CATEGORIES:Social Gathering
END:VEVENT
END:VCALENDAR