BEGIN:VCALENDAR
VERSION:2.0
PRODID:-//Fraser River Valley Lions Club - ECPv6.15.20//NONSGML v1.0//EN
CALSCALE:GREGORIAN
METHOD:PUBLISH
X-ORIGINAL-URL:https://fraservalleylions.org
X-WR-CALDESC:Events for Fraser River Valley Lions Club
REFRESH-INTERVAL;VALUE=DURATION:PT1H
X-Robots-Tag:noindex
X-PUBLISHED-TTL:PT1H
BEGIN:VTIMEZONE
TZID:America/Denver
BEGIN:DAYLIGHT
TZOFFSETFROM:-0700
TZOFFSETTO:-0600
TZNAME:MDT
DTSTART:20250309T090000
END:DAYLIGHT
BEGIN:STANDARD
TZOFFSETFROM:-0600
TZOFFSETTO:-0700
TZNAME:MST
DTSTART:20251102T080000
END:STANDARD
BEGIN:DAYLIGHT
TZOFFSETFROM:-0700
TZOFFSETTO:-0600
TZNAME:MDT
DTSTART:20260308T090000
END:DAYLIGHT
BEGIN:STANDARD
TZOFFSETFROM:-0600
TZOFFSETTO:-0700
TZNAME:MST
DTSTART:20261101T080000
END:STANDARD
BEGIN:DAYLIGHT
TZOFFSETFROM:-0700
TZOFFSETTO:-0600
TZNAME:MDT
DTSTART:20270314T090000
END:DAYLIGHT
BEGIN:STANDARD
TZOFFSETFROM:-0600
TZOFFSETTO:-0700
TZNAME:MST
DTSTART:20271107T080000
END:STANDARD
END:VTIMEZONE
BEGIN:VEVENT
DTSTART;TZID=America/Denver:20260602T080000
DTEND;TZID=America/Denver:20260602T090000
DTSTAMP:20260423T103810
CREATED:20251229T161614Z
LAST-MODIFIED:20260316T172309Z
UID:22766-1780387200-1780390800@fraservalleylions.org
SUMMARY:Lions Club Member Meeting
DESCRIPTION:
URL:https://fraservalleylions.org/event/lions-club-member-meeting-25/
LOCATION:Church of the Eternal Hills\, 100 Meadows Blvd.\, Tabernash\, CO\, 80478\, United States
CATEGORIES:Meeting
END:VEVENT
BEGIN:VEVENT
DTSTART;TZID=America/Denver:20260602T170000
DTEND;TZID=America/Denver:20260602T190000
DTSTAMP:20260423T103810
CREATED:20251229T213617Z
LAST-MODIFIED:20260316T172258Z
UID:22900-1780419600-1780426800@fraservalleylions.org
SUMMARY:New Member Tuesdays - Happy Hour at Vicious Cycle Brewing
DESCRIPTION:
URL:https://fraservalleylions.org/event/new-member-mondays-happy-hour-at-vicious-cycle-brewing-7/
LOCATION:Vicious Cycle Brewing\, 751 S Zerex St\, Fraser\, Colorado\, 80442
CATEGORIES:Social Gathering
END:VEVENT
BEGIN:VEVENT
DTSTART;TZID=America/Denver:20260603T093000
DTEND;TZID=America/Denver:20260603T103000
DTSTAMP:20260423T103810
CREATED:20251229T213933Z
LAST-MODIFIED:20251229T213933Z
UID:22910-1780479000-1780482600@fraservalleylions.org
SUMMARY:Grocery Pickup for Mountain Family Center Food Pantry
DESCRIPTION:
URL:https://fraservalleylions.org/event/grocery-pickup-for-mountain-family-center-food-pantry-39/
LOCATION:Mountain Family Center Food Pantry\, 480 E Agate Ave\, Granby\, CO\, 80446\, United States
END:VEVENT
BEGIN:VEVENT
DTSTART;TZID=America/Denver:20260608T170000
DTEND;TZID=America/Denver:20260608T180000
DTSTAMP:20260423T103810
CREATED:20251229T164802Z
LAST-MODIFIED:20260316T172247Z
UID:22800-1780938000-1780941600@fraservalleylions.org
SUMMARY:Lions Board Meeting
DESCRIPTION:
URL:https://fraservalleylions.org/event/lions-board-meeting-14/
LOCATION:CO
CATEGORIES:Meeting
END:VEVENT
BEGIN:VEVENT
DTSTART;TZID=America/Denver:20260610T093000
DTEND;TZID=America/Denver:20260610T103000
DTSTAMP:20260423T103810
CREATED:20251229T214001Z
LAST-MODIFIED:20251229T214001Z
UID:22912-1781083800-1781087400@fraservalleylions.org
SUMMARY:Grocery Pickup for Mountain Family Center Food Pantry
DESCRIPTION:
URL:https://fraservalleylions.org/event/grocery-pickup-for-mountain-family-center-food-pantry-40/
LOCATION:Mountain Family Center Food Pantry\, 480 E Agate Ave\, Granby\, CO\, 80446\, United States
END:VEVENT
BEGIN:VEVENT
DTSTART;TZID=America/Denver:20260611T170000
DTEND;TZID=America/Denver:20260611T190000
DTSTAMP:20260423T103810
CREATED:20251229T214439Z
LAST-MODIFIED:20260316T172234Z
UID:22920-1781197200-1781204400@fraservalleylions.org
SUMMARY:Thursday Night Gathering at Big Trout Brewery
DESCRIPTION:
URL:https://fraservalleylions.org/event/thursday-night-gathering-at-big-trout-brewery-6/
LOCATION:Big Trout Brewery\, 50 Vasquez Road\, Winter Park\, CO\, 80482
CATEGORIES:Social Gathering
END:VEVENT
BEGIN:VEVENT
DTSTART;TZID=America/Denver:20260612T173000
DTEND;TZID=America/Denver:20260612T200000
DTSTAMP:20260423T103810
CREATED:20250513T170520Z
LAST-MODIFIED:20260414T193953Z
UID:22000-1781285400-1781294400@fraservalleylions.org
SUMMARY:Officer Installation and Awards
DESCRIPTION:
URL:https://fraservalleylions.org/event/officer-installation-and-awards/
LOCATION:Historic Church of Fraser CO\, 107 Eisenhower\, Fraser\, 80442
CATEGORIES:Social Gathering
END:VEVENT
BEGIN:VEVENT
DTSTART;TZID=America/Denver:20260616T080000
DTEND;TZID=America/Denver:20260616T090000
DTSTAMP:20260423T103810
CREATED:20251229T161654Z
LAST-MODIFIED:20260316T172222Z
UID:22768-1781596800-1781600400@fraservalleylions.org
SUMMARY:Lions Club Member Meeting - Business Meeting
DESCRIPTION:
URL:https://fraservalleylions.org/event/lions-club-member-meeting-business-meeting-2/
LOCATION:Church of the Eternal Hills\, 100 Meadows Blvd.\, Tabernash\, CO\, 80478\, United States
CATEGORIES:Meeting
END:VEVENT
BEGIN:VEVENT
DTSTART;TZID=America/Denver:20260617T093000
DTEND;TZID=America/Denver:20260617T103000
DTSTAMP:20260423T103810
CREATED:20251229T214029Z
LAST-MODIFIED:20251229T214029Z
UID:22914-1781688600-1781692200@fraservalleylions.org
SUMMARY:Grocery Pickup for Mountain Family Center Food Pantry
DESCRIPTION:
URL:https://fraservalleylions.org/event/grocery-pickup-for-mountain-family-center-food-pantry-41/
LOCATION:Mountain Family Center Food Pantry\, 480 E Agate Ave\, Granby\, CO\, 80446\, United States
END:VEVENT
BEGIN:VEVENT
DTSTART;TZID=America/Denver:20260618T170000
DTEND;TZID=America/Denver:20260618T200000
DTSTAMP:20260423T103810
CREATED:20250402T013208Z
LAST-MODIFIED:20260316T172210Z
UID:21722-1781802000-1781812800@fraservalleylions.org
SUMMARY:Thursday Night Music FoodFest - Spanish Night - Bring your Favorite Tapas
DESCRIPTION:
URL:https://fraservalleylions.org/event/thursday-night-music-foodfest/
LOCATION:Hideaway Park\, 50 Vasquez Road\, Winter Park\, CO\, 80482\, United States
CATEGORIES:Social Gathering
END:VEVENT
BEGIN:VEVENT
DTSTART;TZID=America/Denver:20260624T093000
DTEND;TZID=America/Denver:20260624T103000
DTSTAMP:20260423T103810
CREATED:20251229T214102Z
LAST-MODIFIED:20251229T214102Z
UID:22916-1782293400-1782297000@fraservalleylions.org
SUMMARY:Grocery Pickup for Mountain Family Center Food Pantry
DESCRIPTION:
URL:https://fraservalleylions.org/event/grocery-pickup-for-mountain-family-center-food-pantry-42/
LOCATION:Mountain Family Center Food Pantry\, 480 E Agate Ave\, Granby\, CO\, 80446\, United States
END:VEVENT
BEGIN:VEVENT
DTSTART;TZID=America/Denver:20260625T170000
DTEND;TZID=America/Denver:20260625T200000
DTSTAMP:20260423T103810
CREATED:20250402T014614Z
LAST-MODIFIED:20260316T172158Z
UID:21724-1782406800-1782417600@fraservalleylions.org
SUMMARY:Thursday Night Music FoodFest - Soul-ful Food & Southern Comforts - Pimento Cheese Please
DESCRIPTION:
URL:https://fraservalleylions.org/event/thursday-night-music-foodfest-2/
LOCATION:Hideaway Park\, 50 Vasquez Road\, Winter Park\, CO\, 80482\, United States
CATEGORIES:Social Gathering
END:VEVENT
END:VCALENDAR