BEGIN:VCALENDAR
VERSION:2.0
PRODID:-//Fraser River Valley Lions Club - ECPv6.15.20//NONSGML v1.0//EN
CALSCALE:GREGORIAN
METHOD:PUBLISH
X-ORIGINAL-URL:https://fraservalleylions.org
X-WR-CALDESC:Events for Fraser River Valley Lions Club
REFRESH-INTERVAL;VALUE=DURATION:PT1H
X-Robots-Tag:noindex
X-PUBLISHED-TTL:PT1H
BEGIN:VTIMEZONE
TZID:America/Denver
BEGIN:DAYLIGHT
TZOFFSETFROM:-0700
TZOFFSETTO:-0600
TZNAME:MDT
DTSTART:20250309T090000
END:DAYLIGHT
BEGIN:STANDARD
TZOFFSETFROM:-0600
TZOFFSETTO:-0700
TZNAME:MST
DTSTART:20251102T080000
END:STANDARD
BEGIN:DAYLIGHT
TZOFFSETFROM:-0700
TZOFFSETTO:-0600
TZNAME:MDT
DTSTART:20260308T090000
END:DAYLIGHT
BEGIN:STANDARD
TZOFFSETFROM:-0600
TZOFFSETTO:-0700
TZNAME:MST
DTSTART:20261101T080000
END:STANDARD
BEGIN:DAYLIGHT
TZOFFSETFROM:-0700
TZOFFSETTO:-0600
TZNAME:MDT
DTSTART:20270314T090000
END:DAYLIGHT
BEGIN:STANDARD
TZOFFSETFROM:-0600
TZOFFSETTO:-0700
TZNAME:MST
DTSTART:20271107T080000
END:STANDARD
END:VTIMEZONE
BEGIN:VEVENT
DTSTART;TZID=America/Denver:20260505T080000
DTEND;TZID=America/Denver:20260505T090000
DTSTAMP:20260423T090854
CREATED:20251229T161421Z
LAST-MODIFIED:20260316T172422Z
UID:22760-1777968000-1777971600@fraservalleylions.org
SUMMARY:Lions Club Member Meeting
DESCRIPTION:
URL:https://fraservalleylions.org/event/lions-club-member-meeting-22/
LOCATION:Church of the Eternal Hills\, 100 Meadows Blvd.\, Tabernash\, CO\, 80478\, United States
CATEGORIES:Meeting
END:VEVENT
BEGIN:VEVENT
DTSTART;TZID=America/Denver:20260505T170000
DTEND;TZID=America/Denver:20260505T190000
DTSTAMP:20260423T090854
CREATED:20251229T213536Z
LAST-MODIFIED:20260316T172412Z
UID:22898-1778000400-1778007600@fraservalleylions.org
SUMMARY:New Member Tuesdays - Happy Hour at Vicious Cycle Brewing
DESCRIPTION:
URL:https://fraservalleylions.org/event/new-member-mondays-happy-hour-at-vicious-cycle-brewing-6/
LOCATION:Vicious Cycle Brewing\, 751 S Zerex St\, Fraser\, Colorado\, 80442
CATEGORIES:Social Gathering
END:VEVENT
BEGIN:VEVENT
DTSTART;TZID=America/Denver:20260506T093000
DTEND;TZID=America/Denver:20260506T103000
DTSTAMP:20260423T090854
CREATED:20251229T213731Z
LAST-MODIFIED:20251229T213731Z
UID:22902-1778059800-1778063400@fraservalleylions.org
SUMMARY:Grocery Pickup for Mountain Family Center Food Pantry
DESCRIPTION:
URL:https://fraservalleylions.org/event/grocery-pickup-for-mountain-family-center-food-pantry-35/
LOCATION:Mountain Family Center Food Pantry\, 480 E Agate Ave\, Granby\, CO\, 80446\, United States
END:VEVENT
BEGIN:VEVENT
DTSTART;TZID=America/Denver:20260511T170000
DTEND;TZID=America/Denver:20260511T180000
DTSTAMP:20260423T090854
CREATED:20251229T164724Z
LAST-MODIFIED:20260316T172359Z
UID:22798-1778518800-1778522400@fraservalleylions.org
SUMMARY:Lions Board Meeting
DESCRIPTION:
URL:https://fraservalleylions.org/event/lions-board-meeting-13/
LOCATION:CO
CATEGORIES:Meeting
END:VEVENT
BEGIN:VEVENT
DTSTART;TZID=America/Denver:20260513T093000
DTEND;TZID=America/Denver:20260513T103000
DTSTAMP:20260423T090854
CREATED:20251229T213801Z
LAST-MODIFIED:20251229T213801Z
UID:22904-1778664600-1778668200@fraservalleylions.org
SUMMARY:Grocery Pickup for Mountain Family Center Food Pantry
DESCRIPTION:
URL:https://fraservalleylions.org/event/grocery-pickup-for-mountain-family-center-food-pantry-36/
LOCATION:Mountain Family Center Food Pantry\, 480 E Agate Ave\, Granby\, CO\, 80446\, United States
END:VEVENT
BEGIN:VEVENT
DTSTART;TZID=America/Denver:20260514T170000
DTEND;TZID=America/Denver:20260514T190000
DTSTAMP:20260423T090854
CREATED:20251229T214355Z
LAST-MODIFIED:20260316T172346Z
UID:22918-1778778000-1778785200@fraservalleylions.org
SUMMARY:Thursday Night Gathering at Big Trout Brewery
DESCRIPTION:
URL:https://fraservalleylions.org/event/thursday-night-gathering-at-big-trout-brewery-5/
LOCATION:Big Trout Brewery\, 50 Vasquez Road\, Winter Park\, CO\, 80482
CATEGORIES:Social Gathering
END:VEVENT
BEGIN:VEVENT
DTSTART;TZID=America/Denver:20260519T080000
DTEND;TZID=America/Denver:20260519T090000
DTSTAMP:20260423T090854
CREATED:20251229T161540Z
LAST-MODIFIED:20260316T172334Z
UID:22764-1779177600-1779181200@fraservalleylions.org
SUMMARY:Lions Club Member Meeting
DESCRIPTION:
URL:https://fraservalleylions.org/event/lions-club-member-meeting-24/
LOCATION:Church of the Eternal Hills\, 100 Meadows Blvd.\, Tabernash\, CO\, 80478\, United States
CATEGORIES:Meeting
END:VEVENT
BEGIN:VEVENT
DTSTART;TZID=America/Denver:20260520T093000
DTEND;TZID=America/Denver:20260520T103000
DTSTAMP:20260423T090854
CREATED:20251229T213830Z
LAST-MODIFIED:20251229T213830Z
UID:22906-1779269400-1779273000@fraservalleylions.org
SUMMARY:Grocery Pickup for Mountain Family Center Food Pantry
DESCRIPTION:
URL:https://fraservalleylions.org/event/grocery-pickup-for-mountain-family-center-food-pantry-37/
LOCATION:Mountain Family Center Food Pantry\, 480 E Agate Ave\, Granby\, CO\, 80446\, United States
END:VEVENT
BEGIN:VEVENT
DTSTART;TZID=America/Denver:20260527T093000
DTEND;TZID=America/Denver:20260527T103000
DTSTAMP:20260423T090854
CREATED:20251229T213900Z
LAST-MODIFIED:20251229T213900Z
UID:22908-1779874200-1779877800@fraservalleylions.org
SUMMARY:Grocery Pickup for Mountain Family Center Food Pantry
DESCRIPTION:
URL:https://fraservalleylions.org/event/grocery-pickup-for-mountain-family-center-food-pantry-38/
LOCATION:Mountain Family Center Food Pantry\, 480 E Agate Ave\, Granby\, CO\, 80446\, United States
END:VEVENT
BEGIN:VEVENT
DTSTART;TZID=America/Denver:20260528T170000
DTEND;TZID=America/Denver:20260528T190000
DTSTAMP:20260423T090854
CREATED:20251229T214552Z
LAST-MODIFIED:20260316T172323Z
UID:22922-1779987600-1779994800@fraservalleylions.org
SUMMARY:Thursday Night Gathering at Vicious Cycle Brewing
DESCRIPTION:
URL:https://fraservalleylions.org/event/thursday-night-gathering-at-vicious-cycle-brewing-4/
LOCATION:Vicious Cycle Brewing\, 751 S Zerex St\, Fraser\, Colorado\, 80442
CATEGORIES:Social Gathering
END:VEVENT
END:VCALENDAR