BEGIN:VCALENDAR
VERSION:2.0
PRODID:-//Fraser River Valley Lions Club - ECPv6.15.20//NONSGML v1.0//EN
CALSCALE:GREGORIAN
METHOD:PUBLISH
X-WR-CALNAME:Fraser River Valley Lions Club
X-ORIGINAL-URL:https://fraservalleylions.org
X-WR-CALDESC:Events for Fraser River Valley Lions Club
REFRESH-INTERVAL;VALUE=DURATION:PT1H
X-Robots-Tag:noindex
X-PUBLISHED-TTL:PT1H
BEGIN:VTIMEZONE
TZID:America/Denver
BEGIN:DAYLIGHT
TZOFFSETFROM:-0700
TZOFFSETTO:-0600
TZNAME:MDT
DTSTART:20250309T090000
END:DAYLIGHT
BEGIN:STANDARD
TZOFFSETFROM:-0600
TZOFFSETTO:-0700
TZNAME:MST
DTSTART:20251102T080000
END:STANDARD
BEGIN:DAYLIGHT
TZOFFSETFROM:-0700
TZOFFSETTO:-0600
TZNAME:MDT
DTSTART:20260308T090000
END:DAYLIGHT
BEGIN:STANDARD
TZOFFSETFROM:-0600
TZOFFSETTO:-0700
TZNAME:MST
DTSTART:20261101T080000
END:STANDARD
BEGIN:DAYLIGHT
TZOFFSETFROM:-0700
TZOFFSETTO:-0600
TZNAME:MDT
DTSTART:20270314T090000
END:DAYLIGHT
BEGIN:STANDARD
TZOFFSETFROM:-0600
TZOFFSETTO:-0700
TZNAME:MST
DTSTART:20271107T080000
END:STANDARD
END:VTIMEZONE
BEGIN:VEVENT
DTSTART;TZID=America/Denver:20260301T080000
DTEND;TZID=America/Denver:20260303T150000
DTSTAMP:20260423T090743
CREATED:20251229T173750Z
LAST-MODIFIED:20251229T173750Z
UID:22872-1772352000-1772550000@fraservalleylions.org
SUMMARY:Powder Partners
DESCRIPTION:
URL:https://fraservalleylions.org/event/powder-partners-10/
LOCATION:CO
END:VEVENT
BEGIN:VEVENT
DTSTART;TZID=America/Denver:20260302T170000
DTEND;TZID=America/Denver:20260302T190000
DTSTAMP:20260423T090743
CREATED:20251229T174846Z
LAST-MODIFIED:20260316T170318Z
UID:22880-1772470800-1772478000@fraservalleylions.org
SUMMARY:New Member Mondays - Happy Hour at Vicious Cycle Brewing
DESCRIPTION:
URL:https://fraservalleylions.org/event/new-member-mondays-happy-hour-at-vicious-cycle-brewing-3/
LOCATION:Vicious Cycle Brewing\, 751 S Zerex St\, Fraser\, Colorado\, 80442
CATEGORIES:Social Gathering
END:VEVENT
BEGIN:VEVENT
DTSTART;TZID=America/Denver:20260303T080000
DTEND;TZID=America/Denver:20260303T090000
DTSTAMP:20260423T090743
CREATED:20251229T160448Z
LAST-MODIFIED:20260316T170337Z
UID:22751-1772524800-1772528400@fraservalleylions.org
SUMMARY:Lions Club Member Meeting - Phil Ivers - Storytelling in Grand County
DESCRIPTION:FRVL Club Meeting Agenda \n3/3/2026 8:00 a.m. \nChurch Of The Eternal Hills \n  \nCall To Order \nPledge Prayer \nGuests/New Members \nApproval of 2/17/2026 Meeting Minutes \nBusiness Meeting:  Phil Ivers – Storytelling in Grand County \nOld/New Business \n\nPond Drop: Greg Orzech\nSafeway Bucks: Joan Potter\nMeeting Minute Co-secretary: Looking for volunteer to team up with Ingrid\nMarketing Team Recruiting! Looking for volunteers!\n\nOpen Discussion \nRandom Act Of Kindness \nHappy Dollars \nTail Twister: Question: \n50/50 \nAdjourn \n  \nThe link to Zoom is on the website \nPlease remember your nonperishable food item(s)  to contribute toward Mountain Family Center!
URL:https://fraservalleylions.org/event/lions-club-member-meeting-21/
LOCATION:Church of the Eternal Hills\, 100 Meadows Blvd.\, Tabernash\, CO\, 80478\, United States
CATEGORIES:Meeting
END:VEVENT
BEGIN:VEVENT
DTSTART;TZID=America/Denver:20260304T093000
DTEND;TZID=America/Denver:20260304T103000
DTSTAMP:20260423T090743
CREATED:20251229T165953Z
LAST-MODIFIED:20251229T165953Z
UID:22822-1772616600-1772620200@fraservalleylions.org
SUMMARY:Grocery Pickup for Mountain Family Center Food Pantry
DESCRIPTION:
URL:https://fraservalleylions.org/event/grocery-pickup-for-mountain-family-center-food-pantry-26/
LOCATION:Mountain Family Center Food Pantry\, 480 E Agate Ave\, Granby\, CO\, 80446\, United States
END:VEVENT
BEGIN:VEVENT
DTSTART;TZID=America/Denver:20260309T170000
DTEND;TZID=America/Denver:20260309T180000
DTSTAMP:20260423T090743
CREATED:20251229T164510Z
LAST-MODIFIED:20260316T170358Z
UID:22794-1773075600-1773079200@fraservalleylions.org
SUMMARY:Lions Board Meeting - Real Estate of Winter Park Office
DESCRIPTION:
URL:https://fraservalleylions.org/event/lions-board-meeting-11/
LOCATION:Real Estate of Winter Park Office\, 78622 US-40\, Winter Park\, CO\, 80482\, United States
CATEGORIES:Meeting
END:VEVENT
BEGIN:VEVENT
DTSTART;TZID=America/Denver:20260311T093000
DTEND;TZID=America/Denver:20260311T103000
DTSTAMP:20260423T090743
CREATED:20251229T170023Z
LAST-MODIFIED:20251229T170023Z
UID:22824-1773221400-1773225000@fraservalleylions.org
SUMMARY:Grocery Pickup for Mountain Family Center Food Pantry
DESCRIPTION:
URL:https://fraservalleylions.org/event/grocery-pickup-for-mountain-family-center-food-pantry-27/
LOCATION:Mountain Family Center Food Pantry\, 480 E Agate Ave\, Granby\, CO\, 80446\, United States
END:VEVENT
BEGIN:VEVENT
DTSTART;TZID=America/Denver:20260312T170000
DTEND;TZID=America/Denver:20260312T190000
DTSTAMP:20260423T090743
CREATED:20251229T171932Z
LAST-MODIFIED:20260316T170412Z
UID:22842-1773334800-1773342000@fraservalleylions.org
SUMMARY:Thursday Night Gathering at Big Trout Brewery
DESCRIPTION:
URL:https://fraservalleylions.org/event/thursday-night-gathering-at-big-trout-brewery-2/
LOCATION:Big Trout Brewery\, 50 Vasquez Road\, Winter Park\, CO\, 80482
CATEGORIES:Social Gathering
END:VEVENT
BEGIN:VEVENT
DTSTART;TZID=America/Denver:20260317T080000
DTEND;TZID=America/Denver:20260317T090000
DTSTAMP:20260423T090743
CREATED:20251229T160721Z
LAST-MODIFIED:20260316T170428Z
UID:22754-1773734400-1773738000@fraservalleylions.org
SUMMARY:Lions Club Member Meeting - Marilyn Banks - East Grand School District Nurse
DESCRIPTION:FRVL Club Meeting Agenda \n3/17/2026 8:00 a.m. \nChurch Of The Eternal Hills \n  \nCall To Order \nPledge Prayer \nGuests/New Members \nApproval of 3/3/2026 Meeting minutes \nBusiness Meeting: \nScholarship Recipient and OLYMPIAN! Jackson Harvey!! \nSpeaker Marilyn Banks – East Grand School District Nurse \nOld/New Business: \n\nPond Drop: Greg Orzech\n\n  \nOpen Discussion \nRandom Act Of Kindness \nHappy Dollars \n50/50 \nAdjourn \nThe link to Zoom is on the website \nPlease remember your nonperishable food item(s)  to contribute toward Mountain Family Center!
URL:https://fraservalleylions.org/event/lions-club-member-meeting-marilyn-banks-east-grand-school-district-nurse/
LOCATION:Church of the Eternal Hills\, 100 Meadows Blvd.\, Tabernash\, CO\, 80478\, United States
CATEGORIES:Meeting
END:VEVENT
BEGIN:VEVENT
DTSTART;TZID=America/Denver:20260318T093000
DTEND;TZID=America/Denver:20260318T103000
DTSTAMP:20260423T090743
CREATED:20251229T170055Z
LAST-MODIFIED:20251229T170055Z
UID:22826-1773826200-1773829800@fraservalleylions.org
SUMMARY:Grocery Pickup for Mountain Family Center Food Pantry
DESCRIPTION:
URL:https://fraservalleylions.org/event/grocery-pickup-for-mountain-family-center-food-pantry-28/
LOCATION:Mountain Family Center Food Pantry\, 480 E Agate Ave\, Granby\, CO\, 80446\, United States
END:VEVENT
BEGIN:VEVENT
DTSTART;TZID=America/Denver:20260320T080000
DTEND;TZID=America/Denver:20260323T150000
DTSTAMP:20260423T090743
CREATED:20251229T173848Z
LAST-MODIFIED:20260314T151937Z
UID:22874-1773993600-1774278000@fraservalleylions.org
SUMMARY:Powder Partners
DESCRIPTION:
URL:https://fraservalleylions.org/event/powder-partners-11/
LOCATION:CO
END:VEVENT
BEGIN:VEVENT
DTSTART;TZID=America/Denver:20260325T093000
DTEND;TZID=America/Denver:20260325T103000
DTSTAMP:20260423T090743
CREATED:20251229T170123Z
LAST-MODIFIED:20251229T170123Z
UID:22828-1774431000-1774434600@fraservalleylions.org
SUMMARY:Grocery Pickup for Mountain Family Center Food Pantry
DESCRIPTION:
URL:https://fraservalleylions.org/event/grocery-pickup-for-mountain-family-center-food-pantry-29/
LOCATION:Mountain Family Center Food Pantry\, 480 E Agate Ave\, Granby\, CO\, 80446\, United States
END:VEVENT
BEGIN:VEVENT
DTSTART;TZID=America/Denver:20260326T170000
DTEND;TZID=America/Denver:20260326T190000
DTSTAMP:20260423T090743
CREATED:20251229T172454Z
LAST-MODIFIED:20260316T170451Z
UID:22850-1774544400-1774551600@fraservalleylions.org
SUMMARY:Thursday Night Gathering at Vicious Cycle Brewing
DESCRIPTION:
URL:https://fraservalleylions.org/event/thursday-night-gathering-at-vicious-cycle-brewing-2/
LOCATION:Vicious Cycle Brewing\, 751 S Zerex St\, Fraser\, Colorado\, 80442
CATEGORIES:Social Gathering
END:VEVENT
END:VCALENDAR