BEGIN:VCALENDAR
VERSION:2.0
PRODID:-//Fraser River Valley Lions Club - ECPv6.15.20//NONSGML v1.0//EN
CALSCALE:GREGORIAN
METHOD:PUBLISH
X-WR-CALNAME:Fraser River Valley Lions Club
X-ORIGINAL-URL:https://fraservalleylions.org
X-WR-CALDESC:Events for Fraser River Valley Lions Club
REFRESH-INTERVAL;VALUE=DURATION:PT1H
X-Robots-Tag:noindex
X-PUBLISHED-TTL:PT1H
BEGIN:VTIMEZONE
TZID:America/Denver
BEGIN:DAYLIGHT
TZOFFSETFROM:-0700
TZOFFSETTO:-0600
TZNAME:MDT
DTSTART:20240310T090000
END:DAYLIGHT
BEGIN:STANDARD
TZOFFSETFROM:-0600
TZOFFSETTO:-0700
TZNAME:MST
DTSTART:20241103T080000
END:STANDARD
BEGIN:DAYLIGHT
TZOFFSETFROM:-0700
TZOFFSETTO:-0600
TZNAME:MDT
DTSTART:20250309T090000
END:DAYLIGHT
BEGIN:STANDARD
TZOFFSETFROM:-0600
TZOFFSETTO:-0700
TZNAME:MST
DTSTART:20251102T080000
END:STANDARD
BEGIN:DAYLIGHT
TZOFFSETFROM:-0700
TZOFFSETTO:-0600
TZNAME:MDT
DTSTART:20260308T090000
END:DAYLIGHT
BEGIN:STANDARD
TZOFFSETFROM:-0600
TZOFFSETTO:-0700
TZNAME:MST
DTSTART:20261101T080000
END:STANDARD
END:VTIMEZONE
BEGIN:VEVENT
DTSTART;TZID=America/Denver:20250327T170000
DTEND;TZID=America/Denver:20250327T190000
DTSTAMP:20260424T090655
CREATED:20241204T232727Z
LAST-MODIFIED:20250316T161251Z
UID:21512-1743094800-1743102000@fraservalleylions.org
SUMMARY:Thursday Night Gathering - Big Trout Brewery
DESCRIPTION:Hope you can all join us in gathering together at the Big Trout Brewery!
URL:https://fraservalleylions.org/event/wednesday-night-gathering-december-11th/
LOCATION:Big Trout Brewery\, 50 Vasquez Road\, Winter Park\, CO\, 80482
END:VEVENT
BEGIN:VEVENT
DTSTART;TZID=America/Denver:20250318T080000
DTEND;TZID=America/Denver:20250318T090000
DTSTAMP:20260424T090655
CREATED:20250228T150029Z
LAST-MODIFIED:20250316T154339Z
UID:21390-1742284800-1742288400@fraservalleylions.org
SUMMARY:Lions Club Member Meeting - Judy Smith - Friends of Grand County Library
DESCRIPTION:3/18/25 FRVL Club Meeting Agenda \n3/18/25 8:00 a.m. \nChurch Of The Eternal Hills \n\nCall To Order \n\nPledge \n\nPrayer \n\nGuests/New Members \n\nApproval of 3/4/25 FRV Lions Club Meeting Minutes \n\nSpeaker – Judy Smith – Friends of Grand County Library \n\nOld/New Business \n\nReminder of open leadership positions – Fishing Derby\, Forest Service tree cutting\, Gravel Ride \n\nOpen Discussion \n\nRandom Act Of Kindness \n\nTail Twister/Happy Dollars/50/50 – \nWhat 1927 film effectively ended the silent movie era by introducing synchronized talking and singing? \nAnswer:  “The Jazz Singer” starring Al Jolson \nAdjourn
URL:https://fraservalleylions.org/event/lions-meeting/
LOCATION:Church of the Eternal Hills\, 100 Meadows Blvd.\, Tabernash\, CO\, 80478\, United States
END:VEVENT
BEGIN:VEVENT
DTSTART;TZID=America/Denver:20250313T170000
DTEND;TZID=America/Denver:20250313T190000
DTSTAMP:20260424T090655
CREATED:20250319T203623Z
LAST-MODIFIED:20250319T203623Z
UID:21584-1741885200-1741892400@fraservalleylions.org
SUMMARY:Thursday Night Gathering - Big Trout Brewery
DESCRIPTION:
URL:https://fraservalleylions.org/event/thursday-night-gathering-big-trout-brewery/
LOCATION:Big Trout Brewery\, 50 Vasquez Road\, Winter Park\, CO\, 80482
END:VEVENT
BEGIN:VEVENT
DTSTART;TZID=America/Denver:20250304T080000
DTEND;TZID=America/Denver:20250304T090000
DTSTAMP:20260424T090655
CREATED:20250228T150021Z
LAST-MODIFIED:20250228T211824Z
UID:21407-1741075200-1741078800@fraservalleylions.org
SUMMARY:Lions Club Member Meeting
DESCRIPTION:
URL:https://fraservalleylions.org/event/lions-club-member-meeting/
LOCATION:Church of the Eternal Hills\, 100 Meadows Blvd.\, Tabernash\, CO\, 80478\, United States
END:VEVENT
BEGIN:VEVENT
DTSTART;TZID=America/Denver:20250124T160000
DTEND;TZID=America/Denver:20250124T200000
DTSTAMP:20260424T090655
CREATED:20240111T170709Z
LAST-MODIFIED:20250204T041439Z
UID:21118-1737734400-1737748800@fraservalleylions.org
SUMMARY:Lions Serve Dinner @ Cranmer Chapel
DESCRIPTION:
URL:https://fraservalleylions.org/event/cranmer-chapel-dinner/
LOCATION:Cranmer Chapel\, 75 High Country Driver\, Winter Park\, CO\, 80482\, United States
END:VEVENT
END:VCALENDAR