BEGIN:VCALENDAR
VERSION:2.0
PRODID:-//Fraser River Valley Lions Club - ECPv6.15.20//NONSGML v1.0//EN
CALSCALE:GREGORIAN
METHOD:PUBLISH
X-ORIGINAL-URL:https://fraservalleylions.org
X-WR-CALDESC:Events for Fraser River Valley Lions Club
REFRESH-INTERVAL;VALUE=DURATION:PT1H
X-Robots-Tag:noindex
X-PUBLISHED-TTL:PT1H
BEGIN:VTIMEZONE
TZID:America/Denver
BEGIN:DAYLIGHT
TZOFFSETFROM:-0700
TZOFFSETTO:-0600
TZNAME:MDT
DTSTART:20240310T090000
END:DAYLIGHT
BEGIN:STANDARD
TZOFFSETFROM:-0600
TZOFFSETTO:-0700
TZNAME:MST
DTSTART:20241103T080000
END:STANDARD
BEGIN:DAYLIGHT
TZOFFSETFROM:-0700
TZOFFSETTO:-0600
TZNAME:MDT
DTSTART:20250309T090000
END:DAYLIGHT
BEGIN:STANDARD
TZOFFSETFROM:-0600
TZOFFSETTO:-0700
TZNAME:MST
DTSTART:20251102T080000
END:STANDARD
BEGIN:DAYLIGHT
TZOFFSETFROM:-0700
TZOFFSETTO:-0600
TZNAME:MDT
DTSTART:20260308T090000
END:DAYLIGHT
BEGIN:STANDARD
TZOFFSETFROM:-0600
TZOFFSETTO:-0700
TZNAME:MST
DTSTART:20261101T080000
END:STANDARD
BEGIN:DAYLIGHT
TZOFFSETFROM:-0700
TZOFFSETTO:-0600
TZNAME:MDT
DTSTART:20270314T090000
END:DAYLIGHT
BEGIN:STANDARD
TZOFFSETFROM:-0600
TZOFFSETTO:-0700
TZNAME:MST
DTSTART:20271107T080000
END:STANDARD
END:VTIMEZONE
BEGIN:VEVENT
DTSTART;VALUE=DATE:20251204
DTEND;VALUE=DATE:20251207
DTSTAMP:20260423T182716
CREATED:20250610T023342Z
LAST-MODIFIED:20250805T191037Z
UID:22172-1764806400-1765065599@fraservalleylions.org
SUMMARY:Lions Tables and Chairs Reserved - Festival of Trees
DESCRIPTION:
URL:https://fraservalleylions.org/event/lions-tables-and-chairs-festival-of-trees/
LOCATION:CO
END:VEVENT
BEGIN:VEVENT
DTSTART;TZID=America/Denver:20251205T160000
DTEND;TZID=America/Denver:20251205T200000
DTSTAMP:20260423T182716
CREATED:20250401T234844Z
LAST-MODIFIED:20250401T234844Z
UID:21698-1764950400-1764964800@fraservalleylions.org
SUMMARY:Festival of Trees
DESCRIPTION:
URL:https://fraservalleylions.org/event/festival-of-trees-2/
LOCATION:Grand Park Recreation Center\, 1 Main Street\, Fraser\, CO\, 80442\, United States
END:VEVENT
BEGIN:VEVENT
DTSTART;TZID=America/Denver:20251209T170000
DTEND;TZID=America/Denver:20251209T180000
DTSTAMP:20260423T182716
CREATED:20250402T193342Z
LAST-MODIFIED:20251209T175506Z
UID:21827-1765299600-1765303200@fraservalleylions.org
SUMMARY:Lions Board Meeting at Jan Boynton's
DESCRIPTION:
URL:https://fraservalleylions.org/event/lions-board-meeting-8/
LOCATION:Jan Boynton’s\, 94 E. Viking Dr.\, Winter Park\, CO\, 80482\, United States
END:VEVENT
BEGIN:VEVENT
DTSTART;TZID=America/Denver:20251210T093000
DTEND;TZID=America/Denver:20251210T103000
DTSTAMP:20260423T182716
CREATED:20251014T015802Z
LAST-MODIFIED:20251014T015802Z
UID:22622-1765359000-1765362600@fraservalleylions.org
SUMMARY:Grocery Pickup for Mountain Family Center Food Pantry
DESCRIPTION:
URL:https://fraservalleylions.org/event/grocery-pickup-for-mountain-family-center-food-pantry-15/
LOCATION:Mountain Family Center Food Pantry\, 480 E Agate Ave\, Granby\, CO\, 80446\, United States
END:VEVENT
BEGIN:VEVENT
DTSTART;TZID=America/Denver:20251212T173000
DTEND;TZID=America/Denver:20251212T200000
DTSTAMP:20260423T182716
CREATED:20241111T141841Z
LAST-MODIFIED:20251104T191643Z
UID:21453-1765560600-1765569600@fraservalleylions.org
SUMMARY:Lions Club Holiday Party - click to see details
DESCRIPTION:​\n\n\n\n\n\n\n\n\n\n\n\n  \nLet’s party and celebrate this wondrous season\, Friday\, December 12th\, 5:30 pm at the Fraser Historic Church (or as Claude calls it\, “the church of what’s happening now”).Bring your favorite dish to share.   Beverages will be provided. \nThere will be a 50/50 raffle to help defray the costs so bring some cash too.\n\nPlease RSVP to Jan Boynton\, jaboynton@comcast.net\, or 303-908-8907\, call or text\, no later than December 1st. \nWear your holiday attire!
URL:https://fraservalleylions.org/event/club-holiday-party/
LOCATION:Historic Church of Fraser CO\, 107 Eisenhower\, Fraser\, 80442
END:VEVENT
BEGIN:VEVENT
DTSTART;TZID=America/Denver:20251217T093000
DTEND;TZID=America/Denver:20251217T103000
DTSTAMP:20260423T182716
CREATED:20251014T015903Z
LAST-MODIFIED:20251014T015903Z
UID:22624-1765963800-1765967400@fraservalleylions.org
SUMMARY:Grocery Pickup for Mountain Family Center Food Pantry
DESCRIPTION:
URL:https://fraservalleylions.org/event/grocery-pickup-for-mountain-family-center-food-pantry-16/
LOCATION:Mountain Family Center Food Pantry\, 480 E Agate Ave\, Granby\, CO\, 80446\, United States
END:VEVENT
BEGIN:VEVENT
DTSTART;TZID=America/Denver:20251224T093000
DTEND;TZID=America/Denver:20251224T103000
DTSTAMP:20260423T182716
CREATED:20251014T015936Z
LAST-MODIFIED:20251014T015936Z
UID:22626-1766568600-1766572200@fraservalleylions.org
SUMMARY:Grocery Pickup for Mountain Family Center Food Pantry
DESCRIPTION:
URL:https://fraservalleylions.org/event/grocery-pickup-for-mountain-family-center-food-pantry-17/
LOCATION:Mountain Family Center Food Pantry\, 480 E Agate Ave\, Granby\, CO\, 80446\, United States
END:VEVENT
BEGIN:VEVENT
DTSTART;TZID=America/Denver:20251231T093000
DTEND;TZID=America/Denver:20251231T103000
DTSTAMP:20260423T182716
CREATED:20251014T020015Z
LAST-MODIFIED:20251014T020015Z
UID:22628-1767173400-1767177000@fraservalleylions.org
SUMMARY:Grocery Pickup for Mountain Family Center Food Pantry
DESCRIPTION:
URL:https://fraservalleylions.org/event/grocery-pickup-for-mountain-family-center-food-pantry-18/
LOCATION:Mountain Family Center Food Pantry\, 480 E Agate Ave\, Granby\, CO\, 80446\, United States
END:VEVENT
BEGIN:VEVENT
DTSTART;TZID=America/Denver:20260103T080000
DTEND;TZID=America/Denver:20260109T150000
DTSTAMP:20260423T182716
CREATED:20251229T172826Z
LAST-MODIFIED:20251229T172826Z
UID:22854-1767427200-1767970800@fraservalleylions.org
SUMMARY:Powder Partners
DESCRIPTION:
URL:https://fraservalleylions.org/event/powder-partners/
LOCATION:CO
END:VEVENT
BEGIN:VEVENT
DTSTART;TZID=America/Denver:20260105T170000
DTEND;TZID=America/Denver:20260105T190000
DTSTAMP:20260423T182716
CREATED:20251210T205332Z
LAST-MODIFIED:20260316T173029Z
UID:22736-1767632400-1767639600@fraservalleylions.org
SUMMARY:New Member Mondays - Happy Hour at Vicious Cycle Brewing
DESCRIPTION:
URL:https://fraservalleylions.org/event/new-member-mondays-happy-hour-at-vicious-cycle-brewing/
LOCATION:Vicious Cycle Brewing\, 751 S Zerex St\, Fraser\, Colorado\, 80442
CATEGORIES:Social Gathering
END:VEVENT
BEGIN:VEVENT
DTSTART;TZID=America/Denver:20260106T080000
DTEND;TZID=America/Denver:20260106T090000
DTSTAMP:20260423T182716
CREATED:20251014T014124Z
LAST-MODIFIED:20260316T173016Z
UID:22602-1767686400-1767690000@fraservalleylions.org
SUMMARY:Lions Club Member Meeting - Helen Brown - Sustainable Energy in Grand County
DESCRIPTION:FRVL Club Meeting Agenda \n1/6/2026 8:00 a.m. \nChurch Of The Eternal Hills \n  \nCall To Order \nPledge Prayer \nGuests/New Members:  Kate McKearney new Membership Chair Person \nApproval of 12/2/2025  Meeting Minutes \nBusiness Meeting:  Helen Brown – Sustainable Energy in Grand County \nOld/New Business \n\nFestival of Trees: Greg and MaryJane Grooms\nCramner Chapel Dinner: Anita Poole\nTree Sales: Greg Orzech\nNorth Pole Project: Claudia Diamond\nMints: Claudia Diamond\nColorado Gives\nPowder Partners\nPond Drop\n\nOpen Discussion \nRandom Act Of Kindness \nHappy Dollars \n50/50 \nAdjourn \n  \nThe link to Zoom is on the website
URL:https://fraservalleylions.org/event/lions-club-member-meeting-18/
LOCATION:Church of the Eternal Hills\, 100 Meadows Blvd.\, Tabernash\, CO\, 80478\, United States
CATEGORIES:Meeting
END:VEVENT
BEGIN:VEVENT
DTSTART;TZID=America/Denver:20260107T093000
DTEND;TZID=America/Denver:20260107T103000
DTSTAMP:20260423T182716
CREATED:20251014T020117Z
LAST-MODIFIED:20251014T020117Z
UID:22630-1767778200-1767781800@fraservalleylions.org
SUMMARY:Grocery Pickup for Mountain Family Center Food Pantry
DESCRIPTION:
URL:https://fraservalleylions.org/event/grocery-pickup-for-mountain-family-center-food-pantry-19/
LOCATION:Mountain Family Center Food Pantry\, 480 E Agate Ave\, Granby\, CO\, 80446\, United States
END:VEVENT
BEGIN:VEVENT
DTSTART;TZID=America/Denver:20260112T080000
DTEND;TZID=America/Denver:20260112T150000
DTSTAMP:20260423T182716
CREATED:20251229T172937Z
LAST-MODIFIED:20251229T172937Z
UID:22856-1768204800-1768230000@fraservalleylions.org
SUMMARY:Powder Partners
DESCRIPTION:
URL:https://fraservalleylions.org/event/powder-partners-2/
LOCATION:CO
END:VEVENT
BEGIN:VEVENT
DTSTART;TZID=America/Denver:20260112T170000
DTEND;TZID=America/Denver:20260112T180000
DTSTAMP:20260423T182716
CREATED:20251014T014323Z
LAST-MODIFIED:20260316T173002Z
UID:22606-1768237200-1768240800@fraservalleylions.org
SUMMARY:Lions Board Meeting at Sally O'Neill's
DESCRIPTION:
URL:https://fraservalleylions.org/event/lions-board-meeting-9/
LOCATION:Sally O’Neill’s\, 290 Moose Trail\, Winter Park\, CO\, 80482\, United States
CATEGORIES:Meeting
END:VEVENT
BEGIN:VEVENT
DTSTART;TZID=America/Denver:20260113T080000
DTEND;TZID=America/Denver:20260113T100000
DTSTAMP:20260423T182716
CREATED:20251229T174933Z
LAST-MODIFIED:20260316T172952Z
UID:22882-1768291200-1768298400@fraservalleylions.org
SUMMARY:Lions Club Chairpeople Meeting at Church of the Eternal Hills
DESCRIPTION:
URL:https://fraservalleylions.org/event/new-member-mondays-happy-hour-at-vicious-cycle-brewing-4/
LOCATION:Church of the Eternal Hills\, 100 Meadows Blvd.\, Tabernash\, CO\, 80478\, United States
CATEGORIES:Meeting
END:VEVENT
BEGIN:VEVENT
DTSTART;TZID=America/Denver:20260114T093000
DTEND;TZID=America/Denver:20260114T103000
DTSTAMP:20260423T182716
CREATED:20251014T020145Z
LAST-MODIFIED:20251014T020145Z
UID:22632-1768383000-1768386600@fraservalleylions.org
SUMMARY:Grocery Pickup for Mountain Family Center Food Pantry
DESCRIPTION:
URL:https://fraservalleylions.org/event/grocery-pickup-for-mountain-family-center-food-pantry-20/
LOCATION:Mountain Family Center Food Pantry\, 480 E Agate Ave\, Granby\, CO\, 80446\, United States
END:VEVENT
BEGIN:VEVENT
DTSTART;TZID=America/Denver:20260115T080000
DTEND;TZID=America/Denver:20260115T150000
DTSTAMP:20260423T182716
CREATED:20251229T173021Z
LAST-MODIFIED:20251229T173021Z
UID:22858-1768464000-1768489200@fraservalleylions.org
SUMMARY:Powder Partners
DESCRIPTION:
URL:https://fraservalleylions.org/event/powder-partners-3/
LOCATION:CO
END:VEVENT
BEGIN:VEVENT
DTSTART;TZID=America/Denver:20260115T170000
DTEND;TZID=America/Denver:20260115T190000
DTSTAMP:20260423T182716
CREATED:20251014T014445Z
LAST-MODIFIED:20260316T172820Z
UID:22608-1768496400-1768503600@fraservalleylions.org
SUMMARY:Thursday Night Gathering at Big Trout Brewery
DESCRIPTION:
URL:https://fraservalleylions.org/event/thursday-night-gathering/
LOCATION:Big Trout Brewery\, 50 Vasquez Road\, Winter Park\, CO\, 80482
CATEGORIES:Social Gathering
END:VEVENT
BEGIN:VEVENT
DTSTART;TZID=America/Denver:20260118T080000
DTEND;TZID=America/Denver:20260123T150000
DTSTAMP:20260423T182716
CREATED:20251229T173059Z
LAST-MODIFIED:20260114T180233Z
UID:22860-1768723200-1769180400@fraservalleylions.org
SUMMARY:Powder Partners
DESCRIPTION:
URL:https://fraservalleylions.org/event/powder-partners-4/
LOCATION:CO
END:VEVENT
BEGIN:VEVENT
DTSTART;TZID=America/Denver:20260120T080000
DTEND;TZID=America/Denver:20260120T090000
DTSTAMP:20260423T182716
CREATED:20251014T014220Z
LAST-MODIFIED:20260316T172808Z
UID:22604-1768896000-1768899600@fraservalleylions.org
SUMMARY:Lions Club Member Meeting - Valerie Riege - Rotifunk Mission of Hope in Sierra Leone\, Africa
DESCRIPTION:FRVL Club Meeting Agenda \n1/20/2026 8:00 a.m. \nChurch Of The Eternal Hills \n  \nCall To Order \nPledge Prayer \nGuests/New Members \nApproval of 1/6/2026 Meeting Minutes \nBusiness Meeting: Valerie Riege – Rotifunk Mission of Hope in Sierra Leone\, Africa \nOld/New Business \n\nCranmer Chapel Dinner: Anita Poole\, Sally Oneill\nPond Drop\nSafeway Bucks\n\nOpen Discussion \nRandom Act Of Kindness \nHappy Dollars \n50/50 \nAdjourn \n  \nThe link to Zoom is on the website \n  \nPlease remember your nonperishable food item(s) to contribute toward Mountain Family Center!
URL:https://fraservalleylions.org/event/lions-club-member-meeting-19/
LOCATION:Church of the Eternal Hills\, 100 Meadows Blvd.\, Tabernash\, CO\, 80478\, United States
CATEGORIES:Meeting
END:VEVENT
BEGIN:VEVENT
DTSTART;TZID=America/Denver:20260121T093000
DTEND;TZID=America/Denver:20260121T103000
DTSTAMP:20260423T182716
CREATED:20251014T020210Z
LAST-MODIFIED:20251014T020210Z
UID:22634-1768987800-1768991400@fraservalleylions.org
SUMMARY:Grocery Pickup for Mountain Family Center Food Pantry
DESCRIPTION:
URL:https://fraservalleylions.org/event/grocery-pickup-for-mountain-family-center-food-pantry-21/
LOCATION:Mountain Family Center Food Pantry\, 480 E Agate Ave\, Granby\, CO\, 80446\, United States
END:VEVENT
BEGIN:VEVENT
DTSTART;TZID=America/Denver:20260128T093000
DTEND;TZID=America/Denver:20260128T103000
DTSTAMP:20260423T182716
CREATED:20251014T020411Z
LAST-MODIFIED:20251014T020411Z
UID:22636-1769592600-1769596200@fraservalleylions.org
SUMMARY:Grocery Pickup for Mountain Family Center Food Pantry
DESCRIPTION:
URL:https://fraservalleylions.org/event/grocery-pickup-for-mountain-family-center-food-pantry-22/
LOCATION:Mountain Family Center Food Pantry\, 480 E Agate Ave\, Granby\, CO\, 80446\, United States
END:VEVENT
BEGIN:VEVENT
DTSTART;TZID=America/Denver:20260129T170000
DTEND;TZID=America/Denver:20260129T190000
DTSTAMP:20260423T182716
CREATED:20251014T014535Z
LAST-MODIFIED:20260316T172755Z
UID:22610-1769706000-1769713200@fraservalleylions.org
SUMMARY:Thursday Night Gathering at Vicious Cycle Brewing
DESCRIPTION:
URL:https://fraservalleylions.org/event/thursday-night-gathering-2/
LOCATION:Vicious Cycle Brewing\, 751 S Zerex St\, Fraser\, Colorado\, 80442
CATEGORIES:Social Gathering
END:VEVENT
BEGIN:VEVENT
DTSTART;TZID=America/Denver:20260131T080000
DTEND;TZID=America/Denver:20260201T150000
DTSTAMP:20260423T182716
CREATED:20251229T173251Z
LAST-MODIFIED:20251229T174138Z
UID:22862-1769846400-1769958000@fraservalleylions.org
SUMMARY:Powder Partners
DESCRIPTION:
URL:https://fraservalleylions.org/event/powder-partners-5/
LOCATION:CO
END:VEVENT
BEGIN:VEVENT
DTSTART;TZID=America/Denver:20260202T170000
DTEND;TZID=America/Denver:20260202T190000
DTSTAMP:20260423T182716
CREATED:20251229T174806Z
LAST-MODIFIED:20260316T172741Z
UID:22878-1770051600-1770058800@fraservalleylions.org
SUMMARY:New Member Mondays - Happy Hour at Vicious Cycle Brewing
DESCRIPTION:
URL:https://fraservalleylions.org/event/new-member-mondays-happy-hour-at-vicious-cycle-brewing-2/
LOCATION:Vicious Cycle Brewing\, 751 S Zerex St\, Fraser\, Colorado\, 80442
CATEGORIES:Social Gathering
END:VEVENT
BEGIN:VEVENT
DTSTART;TZID=America/Denver:20260203T080000
DTEND;TZID=America/Denver:20260203T090000
DTSTAMP:20260423T182716
CREATED:20251229T155837Z
LAST-MODIFIED:20260316T172731Z
UID:22747-1770105600-1770109200@fraservalleylions.org
SUMMARY:Lions Club Member Meeting - Jim McCormick - CASA
DESCRIPTION:FRVL Club Meeting Agenda \n2/3/2026 8:00 a.m. \nChurch Of The Eternal Hills \n  \nCall To Order \nPledge Prayer \nGuests/New Members \nApproval of 1/20/2026  Meeting Minutes \nBusiness Meeting:  Jim McCormick\, CASA (Court Appointed Special Advocates) \nOld/New Business \n\nCranmer Chapel Dinner: Anita Poole\, Sally Oneill\nPond Drop\nSafeway Bucks\n\nOpen Discussion \nRandom Act Of Kindness \nHappy Dollars \nTail Twister: Question: Who said “We are holding our own”? \n\nAnswer: Captain Ernest M. McSorley of the SS Edmund Fitzgerald  said\, “We are holding our own\,” during the ship’s final radio transmission on November 10\, 1975. This was the last message heard from the ship before it sank in a massive storm on Lake Superior\, taking all 29 crew members with it\n\n50/50 \nAdjourn \nThe link to Zoom is on the website \nPlease remember your nonperishable food item(s)  to contribute toward Mountain Family Center!
URL:https://fraservalleylions.org/event/lions-club-member-meeting-john-farabaugh-club-finances/
LOCATION:Church of the Eternal Hills\, 100 Meadows Blvd.\, Tabernash\, CO\, 80478\, United States
CATEGORIES:Meeting
END:VEVENT
BEGIN:VEVENT
DTSTART;TZID=America/Denver:20260204T093000
DTEND;TZID=America/Denver:20260204T103000
DTSTAMP:20260423T182716
CREATED:20251229T165743Z
LAST-MODIFIED:20251229T165743Z
UID:22814-1770197400-1770201000@fraservalleylions.org
SUMMARY:Grocery Pickup for Mountain Family Center Food Pantry
DESCRIPTION:
URL:https://fraservalleylions.org/event/grocery-pickup-for-mountain-family-center-food-pantry-12/
LOCATION:Mountain Family Center Food Pantry\, 480 E Agate Ave\, Granby\, CO\, 80446\, United States
END:VEVENT
BEGIN:VEVENT
DTSTART;TZID=America/Denver:20260206T170000
DTEND;TZID=America/Denver:20260206T193000
DTSTAMP:20260423T182716
CREATED:20260106T164926Z
LAST-MODIFIED:20260316T172716Z
UID:23038-1770397200-1770406200@fraservalleylions.org
SUMMARY:Lions Serve Dinner @ Cranmer Chapel
DESCRIPTION:
URL:https://fraservalleylions.org/event/lions-serve-dinner-cranmer-chapel/
LOCATION:Cranmer Chapel\, 75 High Country Driver\, Winter Park\, CO\, 80482\, United States
CATEGORIES:Lions Activity
END:VEVENT
BEGIN:VEVENT
DTSTART;TZID=America/Denver:20260208T080000
DTEND;TZID=America/Denver:20260208T150000
DTSTAMP:20260423T182716
CREATED:20251229T173505Z
LAST-MODIFIED:20251229T173505Z
UID:22866-1770537600-1770562800@fraservalleylions.org
SUMMARY:Powder Partners
DESCRIPTION:
URL:https://fraservalleylions.org/event/powder-partners-7/
LOCATION:CO
END:VEVENT
BEGIN:VEVENT
DTSTART;TZID=America/Denver:20260209T170000
DTEND;TZID=America/Denver:20260209T180000
DTSTAMP:20260423T182716
CREATED:20251229T164424Z
LAST-MODIFIED:20260316T172702Z
UID:22792-1770656400-1770660000@fraservalleylions.org
SUMMARY:Lions Board Meeting - Real Estate of Winter Park Office
DESCRIPTION:
URL:https://fraservalleylions.org/event/lions-board-meeting-10/
LOCATION:Real Estate of Winter Park Office\, 78622 US-40\, Winter Park\, CO\, 80482\, United States
CATEGORIES:Meeting
END:VEVENT
END:VCALENDAR