BEGIN:VCALENDAR
VERSION:2.0
PRODID:-//Fraser River Valley Lions Club - ECPv6.15.20//NONSGML v1.0//EN
CALSCALE:GREGORIAN
METHOD:PUBLISH
X-ORIGINAL-URL:https://fraservalleylions.org
X-WR-CALDESC:Events for Fraser River Valley Lions Club
REFRESH-INTERVAL;VALUE=DURATION:PT1H
X-Robots-Tag:noindex
X-PUBLISHED-TTL:PT1H
BEGIN:VTIMEZONE
TZID:America/Denver
BEGIN:DAYLIGHT
TZOFFSETFROM:-0700
TZOFFSETTO:-0600
TZNAME:MDT
DTSTART:20250309T090000
END:DAYLIGHT
BEGIN:STANDARD
TZOFFSETFROM:-0600
TZOFFSETTO:-0700
TZNAME:MST
DTSTART:20251102T080000
END:STANDARD
BEGIN:DAYLIGHT
TZOFFSETFROM:-0700
TZOFFSETTO:-0600
TZNAME:MDT
DTSTART:20260308T090000
END:DAYLIGHT
BEGIN:STANDARD
TZOFFSETFROM:-0600
TZOFFSETTO:-0700
TZNAME:MST
DTSTART:20261101T080000
END:STANDARD
BEGIN:DAYLIGHT
TZOFFSETFROM:-0700
TZOFFSETTO:-0600
TZNAME:MDT
DTSTART:20270314T090000
END:DAYLIGHT
BEGIN:STANDARD
TZOFFSETFROM:-0600
TZOFFSETTO:-0700
TZNAME:MST
DTSTART:20271107T080000
END:STANDARD
END:VTIMEZONE
BEGIN:VEVENT
DTSTART;TZID=America/Denver:20261112T170000
DTEND;TZID=America/Denver:20261112T190000
DTSTAMP:20260424T063102
CREATED:20251014T012339Z
LAST-MODIFIED:20260316T170943Z
UID:22600-1794502800-1794510000@fraservalleylions.org
SUMMARY:Thursday Night Gathering - Big Trout
DESCRIPTION:
URL:https://fraservalleylions.org/event/thursday-night-gathering-vicious-cycle-brewing/
LOCATION:Big Trout Brewery\, 50 Vasquez Road\, Winter Park\, CO\, 80482
CATEGORIES:Social Gathering
END:VEVENT
BEGIN:VEVENT
DTSTART;TZID=America/Denver:20261117T080000
DTEND;TZID=America/Denver:20261117T090000
DTSTAMP:20260424T063102
CREATED:20251229T163742Z
LAST-MODIFIED:20260316T170920Z
UID:22788-1794902400-1794906000@fraservalleylions.org
SUMMARY:Lions Club Member Meeting
DESCRIPTION:
URL:https://fraservalleylions.org/event/lions-club-member-meeting-32/
LOCATION:Church of the Eternal Hills\, 100 Meadows Blvd.\, Tabernash\, CO\, 80478\, United States
CATEGORIES:Meeting
END:VEVENT
BEGIN:VEVENT
DTSTART;TZID=America/Denver:20261118T093000
DTEND;TZID=America/Denver:20261118T103000
DTSTAMP:20260424T063102
CREATED:20260315T195813Z
LAST-MODIFIED:20260315T195813Z
UID:23254-1794994200-1794997800@fraservalleylions.org
SUMMARY:Grocery Pickup for Mountain Family Center Food Pantry
DESCRIPTION:
URL:https://fraservalleylions.org/event/grocery-pickup-for-mountain-family-center-food-pantry-65/
LOCATION:Mountain Family Center Food Pantry\, 480 E Agate Ave\, Granby\, CO\, 80446\, United States
END:VEVENT
BEGIN:VEVENT
DTSTART;TZID=America/Denver:20261125T093000
DTEND;TZID=America/Denver:20261125T103000
DTSTAMP:20260424T063102
CREATED:20260315T195847Z
LAST-MODIFIED:20260315T195847Z
UID:23256-1795599000-1795602600@fraservalleylions.org
SUMMARY:Grocery Pickup for Mountain Family Center Food Pantry
DESCRIPTION:
URL:https://fraservalleylions.org/event/grocery-pickup-for-mountain-family-center-food-pantry-66/
LOCATION:Mountain Family Center Food Pantry\, 480 E Agate Ave\, Granby\, CO\, 80446\, United States
END:VEVENT
BEGIN:VEVENT
DTSTART;TZID=America/Denver:20261126T080000
DTEND;TZID=America/Denver:20261126T110000
DTSTAMP:20260424T063102
CREATED:20250921T150457Z
LAST-MODIFIED:20260316T164441Z
UID:22532-1795680000-1795690800@fraservalleylions.org
SUMMARY:Turkey Trot 5K in Winter Park
DESCRIPTION:
URL:https://fraservalleylions.org/event/turkey-trot-5k-in-winter-park/
LOCATION:CO
CATEGORIES:Community Event
END:VEVENT
BEGIN:VEVENT
DTSTART;TZID=America/Denver:20261201T080000
DTEND;TZID=America/Denver:20261201T090000
DTSTAMP:20260424T063102
CREATED:20251229T163820Z
LAST-MODIFIED:20260316T170853Z
UID:22790-1796112000-1796115600@fraservalleylions.org
SUMMARY:Lions Club Member Meeting
DESCRIPTION:
URL:https://fraservalleylions.org/event/lions-club-member-meeting-33/
LOCATION:Church of the Eternal Hills\, 100 Meadows Blvd.\, Tabernash\, CO\, 80478\, United States
CATEGORIES:Meeting
END:VEVENT
BEGIN:VEVENT
DTSTART;TZID=America/Denver:20261201T170000
DTEND;TZID=America/Denver:20261201T190000
DTSTAMP:20260424T063102
CREATED:20260315T193102Z
LAST-MODIFIED:20260316T170741Z
UID:23208-1796144400-1796151600@fraservalleylions.org
SUMMARY:New Member Tuesdays - Happy Hour at Vicious Cycle Brewing
DESCRIPTION:
URL:https://fraservalleylions.org/event/new-member-tuesdays-happy-hour-at-vicious-cycle-brewing-6/
LOCATION:Vicious Cycle Brewing\, 751 S Zerex St\, Fraser\, Colorado\, 80442
CATEGORIES:Social Gathering
END:VEVENT
BEGIN:VEVENT
DTSTART;TZID=America/Denver:20261202T093000
DTEND;TZID=America/Denver:20261202T103000
DTSTAMP:20260424T063102
CREATED:20260315T195952Z
LAST-MODIFIED:20260315T195952Z
UID:23258-1796203800-1796207400@fraservalleylions.org
SUMMARY:Grocery Pickup for Mountain Family Center Food Pantry
DESCRIPTION:
URL:https://fraservalleylions.org/event/grocery-pickup-for-mountain-family-center-food-pantry-67/
LOCATION:Mountain Family Center Food Pantry\, 480 E Agate Ave\, Granby\, CO\, 80446\, United States
END:VEVENT
BEGIN:VEVENT
DTSTART;VALUE=DATE:20261203
DTEND;VALUE=DATE:20261206
DTSTAMP:20260424T063102
CREATED:20260113T181329Z
LAST-MODIFIED:20260113T181329Z
UID:23060-1796256000-1796515199@fraservalleylions.org
SUMMARY:Lions Tables and Chairs Reserved - Festival of Trees
DESCRIPTION:
URL:https://fraservalleylions.org/event/lions-tables-and-chairs-reserved-festival-of-trees/
LOCATION:Grand Park Recreation Center\, 1 Main Street\, Fraser\, CO\, 80442\, United States
END:VEVENT
BEGIN:VEVENT
DTSTART;TZID=America/Denver:20261204T160000
DTEND;TZID=America/Denver:20261204T200000
DTSTAMP:20260424T063102
CREATED:20260113T181101Z
LAST-MODIFIED:20260316T164345Z
UID:23056-1796400000-1796414400@fraservalleylions.org
SUMMARY:Festival of Trees
DESCRIPTION:
URL:https://fraservalleylions.org/event/festival-of-trees/
LOCATION:Grand Park Recreation Center\, 1 Main Street\, Fraser\, CO\, 80442\, United States
CATEGORIES:Community Event
END:VEVENT
BEGIN:VEVENT
DTSTART;TZID=America/Denver:20261207T170000
DTEND;TZID=America/Denver:20261207T180000
DTSTAMP:20260424T063102
CREATED:20251229T165149Z
LAST-MODIFIED:20260316T170243Z
UID:22812-1796662800-1796666400@fraservalleylions.org
SUMMARY:Lions Board Meeting
DESCRIPTION:
URL:https://fraservalleylions.org/event/lions-board-meeting-20/
LOCATION:CO
CATEGORIES:Meeting
END:VEVENT
BEGIN:VEVENT
DTSTART;TZID=America/Denver:20261209T093000
DTEND;TZID=America/Denver:20261209T103000
DTSTAMP:20260424T063102
CREATED:20260315T200023Z
LAST-MODIFIED:20260315T200023Z
UID:23260-1796808600-1796812200@fraservalleylions.org
SUMMARY:Grocery Pickup for Mountain Family Center Food Pantry
DESCRIPTION:
URL:https://fraservalleylions.org/event/grocery-pickup-for-mountain-family-center-food-pantry-68/
LOCATION:Mountain Family Center Food Pantry\, 480 E Agate Ave\, Granby\, CO\, 80446\, United States
END:VEVENT
BEGIN:VEVENT
DTSTART;TZID=America/Denver:20261216T093000
DTEND;TZID=America/Denver:20261216T103000
DTSTAMP:20260424T063102
CREATED:20260315T200055Z
LAST-MODIFIED:20260315T200055Z
UID:23262-1797413400-1797417000@fraservalleylions.org
SUMMARY:Grocery Pickup for Mountain Family Center Food Pantry
DESCRIPTION:
URL:https://fraservalleylions.org/event/grocery-pickup-for-mountain-family-center-food-pantry-69/
LOCATION:Mountain Family Center Food Pantry\, 480 E Agate Ave\, Granby\, CO\, 80446\, United States
END:VEVENT
BEGIN:VEVENT
DTSTART;TZID=America/Denver:20261223T093000
DTEND;TZID=America/Denver:20261223T103000
DTSTAMP:20260424T063102
CREATED:20260315T200128Z
LAST-MODIFIED:20260315T200128Z
UID:23264-1798018200-1798021800@fraservalleylions.org
SUMMARY:Grocery Pickup for Mountain Family Center Food Pantry
DESCRIPTION:
URL:https://fraservalleylions.org/event/grocery-pickup-for-mountain-family-center-food-pantry-70/
LOCATION:Mountain Family Center Food Pantry\, 480 E Agate Ave\, Granby\, CO\, 80446\, United States
END:VEVENT
BEGIN:VEVENT
DTSTART;TZID=America/Denver:20261230T093000
DTEND;TZID=America/Denver:20261230T103000
DTSTAMP:20260424T063102
CREATED:20260315T200200Z
LAST-MODIFIED:20260315T200200Z
UID:23266-1798623000-1798626600@fraservalleylions.org
SUMMARY:Grocery Pickup for Mountain Family Center Food Pantry
DESCRIPTION:
URL:https://fraservalleylions.org/event/grocery-pickup-for-mountain-family-center-food-pantry-71/
LOCATION:Mountain Family Center Food Pantry\, 480 E Agate Ave\, Granby\, CO\, 80446\, United States
END:VEVENT
END:VCALENDAR