BEGIN:VCALENDAR
VERSION:2.0
PRODID:-//Fraser River Valley Lions Club - ECPv6.15.20//NONSGML v1.0//EN
CALSCALE:GREGORIAN
METHOD:PUBLISH
X-ORIGINAL-URL:https://fraservalleylions.org
X-WR-CALDESC:Events for Fraser River Valley Lions Club
REFRESH-INTERVAL;VALUE=DURATION:PT1H
X-Robots-Tag:noindex
X-PUBLISHED-TTL:PT1H
BEGIN:VTIMEZONE
TZID:America/Denver
BEGIN:DAYLIGHT
TZOFFSETFROM:-0700
TZOFFSETTO:-0600
TZNAME:MDT
DTSTART:20240310T090000
END:DAYLIGHT
BEGIN:STANDARD
TZOFFSETFROM:-0600
TZOFFSETTO:-0700
TZNAME:MST
DTSTART:20241103T080000
END:STANDARD
BEGIN:DAYLIGHT
TZOFFSETFROM:-0700
TZOFFSETTO:-0600
TZNAME:MDT
DTSTART:20250309T090000
END:DAYLIGHT
BEGIN:STANDARD
TZOFFSETFROM:-0600
TZOFFSETTO:-0700
TZNAME:MST
DTSTART:20251102T080000
END:STANDARD
BEGIN:DAYLIGHT
TZOFFSETFROM:-0700
TZOFFSETTO:-0600
TZNAME:MDT
DTSTART:20260308T090000
END:DAYLIGHT
BEGIN:STANDARD
TZOFFSETFROM:-0600
TZOFFSETTO:-0700
TZNAME:MST
DTSTART:20261101T080000
END:STANDARD
END:VTIMEZONE
BEGIN:VEVENT
DTSTART;TZID=America/Denver:20250501T170000
DTEND;TZID=America/Denver:20250501T190000
DTSTAMP:20260424T090446
CREATED:20250331T220558Z
LAST-MODIFIED:20250331T220558Z
UID:21682-1746118800-1746126000@fraservalleylions.org
SUMMARY:Thursday Night Gathering - Big Trout Brewery
DESCRIPTION:
URL:https://fraservalleylions.org/event/thursday-night-gathering-big-trout-brewery-4/
LOCATION:Big Trout Brewery\, 50 Vasquez Road\, Winter Park\, CO\, 80482
END:VEVENT
BEGIN:VEVENT
DTSTART;TZID=America/Denver:20250506T080000
DTEND;TZID=America/Denver:20250506T090000
DTSTAMP:20260424T090446
CREATED:20250314T181746Z
LAST-MODIFIED:20250504T121647Z
UID:21562-1746518400-1746522000@fraservalleylions.org
SUMMARY:Lions Club Member Meeting - Mary Sangster - GC Wildfire Council
DESCRIPTION:5/6/25 FRVL Club Meeting Agenda \n5/6/25 8:00 a.m. \nChurch Of The Eternal Hills \nCall To Order \nPledge \nPrayer \nGuests/New Members \nApproval of 4/15/25 FRV Lions Club Meeting Minutes \nSpeaker –  Mary Sangster Grand County Wildfire Council \nOld/New Business \nStrummin for Lions \nGolf Tournament/Silent Auction \nGravel Ride/Marathon weekend \nPancake Trailer \nAlcohol server training \nOpen Discussion \nRandom Act Of Kindness \nTail Twister/Happy Dollars/50/50 – Who owns the Denver Broncos? \n\n\nA: The Denver Broncos have a diverse ownership group with minority owners including Mellody Hobson (Co-CEO of Ariel Investments married to George Lucas)\, Condoleezza Rice (former Secretary of State)\, and Lewis Hamilton (Formula One champion). The primary ownership group\, Walton-Penner\, also includes Rob Walton\, Carrie Walton Penner\, and Greg Penner.  \n\n\nAdjourn
URL:https://fraservalleylions.org/event/lions-club-member-meeting-5/
LOCATION:Church of the Eternal Hills\, 100 Meadows Blvd.\, Tabernash\, CO\, 80478\, United States
END:VEVENT
BEGIN:VEVENT
DTSTART;TZID=America/Denver:20250512T170000
DTEND;TZID=America/Denver:20250512T180000
DTSTAMP:20260424T090446
CREATED:20250402T192738Z
LAST-MODIFIED:20250415T222744Z
UID:21813-1747069200-1747072800@fraservalleylions.org
SUMMARY:Lions Board Meeting at Sally O'Neill's
DESCRIPTION:
URL:https://fraservalleylions.org/event/lions-board-meeting/
LOCATION:CO
END:VEVENT
BEGIN:VEVENT
DTSTART;TZID=America/Denver:20250515T170000
DTEND;TZID=America/Denver:20250515T190000
DTSTAMP:20260424T090446
CREATED:20250402T010732Z
LAST-MODIFIED:20250513T172309Z
UID:21712-1747328400-1747335600@fraservalleylions.org
SUMMARY:CANCELLED - Thursday Night Gathering - (Big Trout Closed)
DESCRIPTION:
URL:https://fraservalleylions.org/event/thursday-night-gathering-big-trout-brewery-5/
LOCATION:Big Trout Brewery\, 50 Vasquez Road\, Winter Park\, CO\, 80482
END:VEVENT
BEGIN:VEVENT
DTSTART;TZID=America/Denver:20250520T080000
DTEND;TZID=America/Denver:20250520T090000
DTSTAMP:20260424T090446
CREATED:20250314T181917Z
LAST-MODIFIED:20250519T180142Z
UID:21564-1747728000-1747731600@fraservalleylions.org
SUMMARY:Lions Club Member Meeting - UCWET - Ingrid and Andy Miller
DESCRIPTION:5/20/25 FRVL Club Meeting Agenda \n8:00 a.m. \nChurch Of The Eternal Hills \nCall To Order \nPledge \nPrayer \nGuests/New Members – UCWET \nApproval of 5/6/25 FRV Lions Club Meeting Minutes \nSpecial Guest – Jackson Cimino \, Lion’s scholarship recipient sharing update on his education experience so far. \nSpeaker –  Ingrid Karlstrom – UCWET \nPresentation and membership approval of 25/26 Board \nOld/New Business \nStrummin for Lions \nGolf Tournament/Silent Auction \nGravel Ride/Marathon weekend \nPancake Trailer \nReminder of Meeting on June 13 for installation and awards \nOpen Discussion \nRandom Act Of Kindness \nTail Twister/Happy Dollars/50/50 – What is the highest peak in Rocky Mountain National Park? \nAnswer: Longs Peak\, which stands at 14\,259 feet (4\,346 meters)\, is the highest peak in Rocky Mountain National Park. \nAdjourn \nAlso\, you can access the Zoom link through the website.
URL:https://fraservalleylions.org/event/lions-club-member-meeting-6/
LOCATION:Church of the Eternal Hills\, 100 Meadows Blvd.\, Tabernash\, CO\, 80478\, United States
END:VEVENT
BEGIN:VEVENT
DTSTART;TZID=America/Denver:20250529T170000
DTEND;TZID=America/Denver:20250529T190000
DTSTAMP:20260424T090446
CREATED:20250402T010846Z
LAST-MODIFIED:20250402T010846Z
UID:21714-1748538000-1748545200@fraservalleylions.org
SUMMARY:Thursday Night Gathering - Big Trout Brewery
DESCRIPTION:
URL:https://fraservalleylions.org/event/thursday-night-gathering-big-trout-brewery-6/
LOCATION:Big Trout Brewery\, 50 Vasquez Road\, Winter Park\, CO\, 80482
END:VEVENT
BEGIN:VEVENT
DTSTART;TZID=America/Denver:20250603T080000
DTEND;TZID=America/Denver:20250603T090000
DTSTAMP:20260424T090446
CREATED:20250314T182027Z
LAST-MODIFIED:20250601T155643Z
UID:21566-1748937600-1748941200@fraservalleylions.org
SUMMARY:Lions Club Member Meeting - John Farabaugh - Treasurer of FRVLC
DESCRIPTION:6/3/25 FRVL Club Meeting Agenda \n8:00 a.m. \nChurch Of The Eternal Hills \nCall To Order \nPledge \nPrayer \nGuests/New Members \nApproval of 5/20/25 FRV Lions Club Meeting Minutes \nSpeaker –  John Farabaugh – Treasurer of Fraser River Valley Lions Club \nOld/New Business \nStrummin for Lions \nGolf Tournament/Silent Auction \nGravel Ride/Marathon weekend \nPancake Trailer \nFishing Derby \nAnnual installation and awards potluck Friday June 13th 5:30 at the Historic Church in Fraser \nOpen Discussion \nRandom Act Of Kindness \nTail Twister/Happy Dollars/50/50 \nQuestion: Which famous band was originally called “The Quarrymen”?\n \nAnswer: The Beatles.\n\nAdjourn \nAlso\, you can access the Zoom link through the website.
URL:https://fraservalleylions.org/event/lions-club-member-meeting-7/
LOCATION:Church of the Eternal Hills\, 100 Meadows Blvd.\, Tabernash\, CO\, 80478\, United States
END:VEVENT
BEGIN:VEVENT
DTSTART;TZID=America/Denver:20250609T170000
DTEND;TZID=America/Denver:20250609T180000
DTSTAMP:20260424T090446
CREATED:20250402T192830Z
LAST-MODIFIED:20250513T171819Z
UID:21815-1749488400-1749492000@fraservalleylions.org
SUMMARY:Lions Board Meeting at Sally O'Neill's
DESCRIPTION:
URL:https://fraservalleylions.org/event/lions-board-meeting-2/
LOCATION:CO
END:VEVENT
BEGIN:VEVENT
DTSTART;TZID=America/Denver:20250612T170000
DTEND;TZID=America/Denver:20250612T190000
DTSTAMP:20260424T090446
CREATED:20250402T011016Z
LAST-MODIFIED:20250402T011016Z
UID:21716-1749747600-1749754800@fraservalleylions.org
SUMMARY:Thursday Night Gathering - Big Trout Brewery
DESCRIPTION:
URL:https://fraservalleylions.org/event/thursday-night-gathering-big-trout-brewery-7/
LOCATION:Big Trout Brewery\, 50 Vasquez Road\, Winter Park\, CO\, 80482
END:VEVENT
BEGIN:VEVENT
DTSTART;TZID=America/Denver:20250617T080000
DTEND;TZID=America/Denver:20250617T090000
DTSTAMP:20260424T090446
CREATED:20250402T012700Z
LAST-MODIFIED:20250513T172228Z
UID:21720-1750147200-1750150800@fraservalleylions.org
SUMMARY:CANCELLED - Lions Club Member Meeting
DESCRIPTION:
URL:https://fraservalleylions.org/event/lions-club-member-meeting-2/
LOCATION:Church of the Eternal Hills\, 100 Meadows Blvd.\, Tabernash\, CO\, 80478\, United States
END:VEVENT
BEGIN:VEVENT
DTSTART;VALUE=DATE:20250622
DTEND;VALUE=DATE:20250623
DTSTAMP:20260424T090446
CREATED:20250610T021655Z
LAST-MODIFIED:20250615T195245Z
UID:22166-1750550400-1750636799@fraservalleylions.org
SUMMARY:Lions Tables and Chairs Reserved - Strummin' for the Lions
DESCRIPTION:
URL:https://fraservalleylions.org/event/lions-tables-and-chairs-reservation-strummin-for-the-lions/
LOCATION:CO
END:VEVENT
BEGIN:VEVENT
DTSTART;TZID=America/Denver:20250701T080000
DTEND;TZID=America/Denver:20250701T090000
DTSTAMP:20260424T090446
CREATED:20250402T015252Z
LAST-MODIFIED:20250630T150355Z
UID:21728-1751356800-1751360400@fraservalleylions.org
SUMMARY:Lions Club Member Meeting - Recycling Event - Trina Alexander\, Edith Schleicher\, Anita Poole
DESCRIPTION:6/3/25 FRVL Club Meeting Agenda \n7/1/25 8:00 a.m. \nChurch Of The Eternal Hill \nCall To Order \nPledge \nPrayer \nGuests/New Members  \nApproval of 6/3/25 FRV Lions Club Meeting Minutes   \nSpeaker –  Trina Alexander Recycle Event \nOld/New Business \nFoundation Scholarship Report:  Bob Boynton \nStrummin for Lions: Jill Suffin\, Joe Rooyakkers\, Florice Lietzke \nGolf Tournament/Silent Auction: Pam Meyer\, Michael Solomon \nGravel Ride/Marathon weekend: Roxanne Jensen \nPancake Trailer: Louis Smith \nFishing Derby: Charlie Teichman \nOpen Discussion \nRandom Act Of Kindness  \nTail Twister/Happy Dollars/50/50 \nQuestion: Which US president was never on a ballot as POTUS or VP\, ie never elected to that position? \nAnswer: Gerald Ford\n  \nAdjourn
URL:https://fraservalleylions.org/event/lions-club-member-meeting-8/
LOCATION:Church of the Eternal Hills\, 100 Meadows Blvd.\, Tabernash\, CO\, 80478\, United States
END:VEVENT
BEGIN:VEVENT
DTSTART;TZID=America/Denver:20250704T073000
DTEND;TZID=America/Denver:20250706T110000
DTSTAMP:20260424T090446
CREATED:20250401T235527Z
LAST-MODIFIED:20250401T235527Z
UID:21701-1751614200-1751799600@fraservalleylions.org
SUMMARY:Lions Pancake Breakfast
DESCRIPTION:
URL:https://fraservalleylions.org/event/lions-pancake-breakfast/
LOCATION:Hideaway Park\, 50 Vasquez Road\, Winter Park\, CO\, 80482\, United States
END:VEVENT
BEGIN:VEVENT
DTSTART;TZID=America/Denver:20250707T170000
DTEND;TZID=America/Denver:20250707T180000
DTSTAMP:20260424T090446
CREATED:20250402T192930Z
LAST-MODIFIED:20250616T170703Z
UID:21817-1751907600-1751911200@fraservalleylions.org
SUMMARY:Lions Board Meeting at Sally O'Neill's
DESCRIPTION:
URL:https://fraservalleylions.org/event/lions-board-meeting-3/
LOCATION:CO
END:VEVENT
BEGIN:VEVENT
DTSTART;TZID=America/Denver:20250715T080000
DTEND;TZID=America/Denver:20250715T090000
DTSTAMP:20260424T090446
CREATED:20250402T020138Z
LAST-MODIFIED:20250710T215132Z
UID:21734-1752566400-1752570000@fraservalleylions.org
SUMMARY:Lions Club Member Meeting - Monica Sandstrom - Grand County Wilderness Group
DESCRIPTION:FRVL Club Meeting Agenda \n7/15/25 8:00 a.m. \nChurch Of The Eternal Hills \n  \nCall To Order \nPledge Prayer \nGuests/New Members \nApproval of 7/1/25 FRV Lions Club Meeting Minutes \nSpeaker –  Grand County Wilderness Group; Monica Sandstrom \nOld/New Business \nShining Stars Dinner: Roger Odneal \nGolf Tournament/Silent Auction: Pam Meyer\, Michael Solomon \nGravel Ride: Roxanne Jensen \nPancake Trailer: Louis Smith \nFishing Derby: Charlie Teichman \nFood Drive: Charlie Teichman \nThursday Night Music: Linda Behlen \nSurplus Food Delivery: Gary Behlen \nBoard Meeting Update: Lions mints\, sale of tent\, Kirk Klancke guest speaker\, moving forward with both Google Suite and Venmo \nOpen Discussion \nRandom Act Of Kindness \nTail Twister/Happy Dollars/50/50 – How many tons of bombs were drops during the Indochina war? \nAnswer: 7.5 million tons\, almost 5 millions tons more that dropped in Europe during WW II. \nAdjourn \nYou can access the Zoom link through the website
URL:https://fraservalleylions.org/event/lions-club-member-meeting-9/
LOCATION:Church of the Eternal Hills\, 100 Meadows Blvd.\, Tabernash\, CO\, 80478\, United States
END:VEVENT
BEGIN:VEVENT
DTSTART;TZID=America/Denver:20250725T120000
DTEND;TZID=America/Denver:20250725T170000
DTSTAMP:20260424T090446
CREATED:20250709T190458Z
LAST-MODIFIED:20250721T202250Z
UID:22307-1753444800-1753462800@fraservalleylions.org
SUMMARY:Food Drive at City Market in Granby
DESCRIPTION:
URL:https://fraservalleylions.org/event/food-drive-at-city-market-in-granby/
LOCATION:City Market Granby\, 1001 Thompson Road\, Granby\, CO\, 80446\, United States
END:VEVENT
BEGIN:VEVENT
DTSTART;TZID=America/Denver:20250801T090000
DTEND;TZID=America/Denver:20250801T160000
DTSTAMP:20260424T090446
CREATED:20250513T200620Z
LAST-MODIFIED:20250514T161828Z
UID:22013-1754038800-1754064000@fraservalleylions.org
SUMMARY:"Rechargeable" Lithium-ion Batteries Recycling Event
DESCRIPTION:
URL:https://fraservalleylions.org/event/rechargeable-lithium-ion-batteries-recycle-event/
LOCATION:City Market Granby\, 1001 Thompson Road\, Granby\, CO\, 80446\, United States
END:VEVENT
BEGIN:VEVENT
DTSTART;TZID=America/Denver:20250805T080000
DTEND;TZID=America/Denver:20250805T090000
DTSTAMP:20260424T090446
CREATED:20250402T021335Z
LAST-MODIFIED:20250731T162352Z
UID:21742-1754380800-1754384400@fraservalleylions.org
SUMMARY:Lions Club Member Meeting - Catherine Ross - Winter Park and Fraser Chamber
DESCRIPTION:FRVL Club Meeting Agenda \n8/5/25 8:00 a.m. \nChurch Of The Eternal Hills \n\nCall To Order \nPledge Prayer \nGuests/New Members \nApproval 7/15/25 FRV Lions Club Meeting Minutes   \nSpeaker –  Winter Park/Fraser Chamber of Commerce\, Catherine Ross \nOld/New Business \nShining Stars Dinner: Roger Odneal \nRecycle Project: Trina Alexander \nGolf Tournament/Silent Auction: Pam Meyer\, Michael Solomon \nGravel Ride: Roxanne Jensen \nFood Drive: Charlie Teichman \nOpen Discussion \nRandom Act Of Kindness \nTail Twister/Happy Dollars/50/50 – Which country has won the most World Cup titles in soccer? \nAnswer:  Brazil 5 titles:  1958\,1962\,1970\, 1994 and 2002 \n                Germany and Italy are tied for second with 4 wins each\n\nAdjourn
URL:https://fraservalleylions.org/event/lions-club-member-meeting-10/
LOCATION:Church of the Eternal Hills\, 100 Meadows Blvd.\, Tabernash\, CO\, 80478\, United States
END:VEVENT
BEGIN:VEVENT
DTSTART;TZID=America/Denver:20250811T171500
DTEND;TZID=America/Denver:20250811T181500
DTSTAMP:20260424T090446
CREATED:20250402T193016Z
LAST-MODIFIED:20250808T144608Z
UID:21819-1754932500-1754936100@fraservalleylions.org
SUMMARY:Lions Board Meeting at Jan Boynton's Home
DESCRIPTION:
URL:https://fraservalleylions.org/event/lions-board-meeting-4/
LOCATION:CO
END:VEVENT
BEGIN:VEVENT
DTSTART;VALUE=DATE:20250817
DTEND;VALUE=DATE:20250819
DTSTAMP:20260424T090446
CREATED:20250805T190909Z
LAST-MODIFIED:20250805T190909Z
UID:22402-1755388800-1755561599@fraservalleylions.org
SUMMARY:Lions Tables Reserved (10) - Grand County Wilderness Group (Shelley Ervin)
DESCRIPTION:
URL:https://fraservalleylions.org/event/lions-tables-reserved-10-grand-county-wilderness-group-shelley-ervin/
LOCATION:CO
END:VEVENT
BEGIN:VEVENT
DTSTART;TZID=America/Denver:20250819T080000
DTEND;TZID=America/Denver:20250819T090000
DTSTAMP:20260424T090446
CREATED:20250402T021842Z
LAST-MODIFIED:20250815T170123Z
UID:21748-1755590400-1755594000@fraservalleylions.org
SUMMARY:Lions Club Member Meeting - Business Meeting
DESCRIPTION:FRVL Club Meeting Agenda \n8/19/25 8:00 a.m. \nChurch Of The Eternal Hills \n  \nCall To Order \nPledge Prayer  \nGuests/New Members  \nApproval of 8/5/25 FRV Lions Club Meeting Minutes   \nNo Speaker –  This is our business meeting \nOld/New Business \nGolf Tournament: Michael Solomon \nSilent Auction: Pam Meyer  \nOpen Discussion \nRandom Act Of Kindness  \nTail Twister/Happy Dollars/50/50 \nQuestion: What was the name of the first computer virus to spread? \n             Answer: Brain (1986).  It is considered to be the first computer virus for the IBM Personal Computer (IBM PC) and compatibles. \nAdjourn \n 
URL:https://fraservalleylions.org/event/lions-club-member-meeting-11/
LOCATION:Church of the Eternal Hills\, 100 Meadows Blvd.\, Tabernash\, CO\, 80478\, United States
END:VEVENT
BEGIN:VEVENT
DTSTART;TZID=America/Denver:20250820T140000
DTEND;TZID=America/Denver:20250820T180000
DTSTAMP:20260424T090446
CREATED:20250813T213659Z
LAST-MODIFIED:20250813T214124Z
UID:22414-1755698400-1755712800@fraservalleylions.org
SUMMARY:Lions Vision Screening at Granby Middle School
DESCRIPTION:
URL:https://fraservalleylions.org/event/lions-vision-screening-at-granby-middle-school/
LOCATION:Granby Middle School\, 251 W Diamond Ave\, Granby\, CO\, 80446\, United States
END:VEVENT
BEGIN:VEVENT
DTSTART;TZID=America/Denver:20250822T120000
DTEND;TZID=America/Denver:20250822T170000
DTSTAMP:20260424T090446
CREATED:20250817T201659Z
LAST-MODIFIED:20250817T201756Z
UID:22431-1755864000-1755882000@fraservalleylions.org
SUMMARY:Food Drive at City Market in Granby
DESCRIPTION:
URL:https://fraservalleylions.org/event/food-drive-at-city-market-in-granby-2/
LOCATION:City Market Granby\, 1001 Thompson Road\, Granby\, CO\, 80446\, United States
END:VEVENT
BEGIN:VEVENT
DTSTART;TZID=America/Denver:20250902T073000
DTEND;TZID=America/Denver:20250902T170000
DTSTAMP:20260424T090446
CREATED:20250402T022834Z
LAST-MODIFIED:20250402T023047Z
UID:21754-1756798200-1756832400@fraservalleylions.org
SUMMARY:Lions Club Golf Tournament
DESCRIPTION:
URL:https://fraservalleylions.org/event/lions-golf-tournament/
LOCATION:Pole Creek Golf Club\, 6827 County Road 51\, Tabernash\, CO\, 80478\, United States
END:VEVENT
BEGIN:VEVENT
DTSTART;TZID=America/Denver:20250903T091500
DTEND;TZID=America/Denver:20250903T101500
DTSTAMP:20260424T090446
CREATED:20250827T195253Z
LAST-MODIFIED:20250827T195415Z
UID:22442-1756890900-1756894500@fraservalleylions.org
SUMMARY:Grocery Pickup for Mountain Family Center Food Pantry
DESCRIPTION:
URL:https://fraservalleylions.org/event/wednesday-grocery-pickup-for-mountain-family/
LOCATION:Mountain Family Center Food Pantry\, 480 E Agate Ave\, Granby\, CO\, 80446\, United States
END:VEVENT
BEGIN:VEVENT
DTSTART;TZID=America/Denver:20250909T083000
DTEND;TZID=America/Denver:20250909T150000
DTSTAMP:20260424T090446
CREATED:20250813T214620Z
LAST-MODIFIED:20250813T214620Z
UID:22417-1757406600-1757430000@fraservalleylions.org
SUMMARY:Lions Vision Screening at East Grand Elementary School
DESCRIPTION:
URL:https://fraservalleylions.org/event/lions-vision-screening-at-east-grand-elementary-school/
LOCATION:East Grand Elementary School\, 241 W Diamond Ave\, Granby\, CO\, 80446\, United States
END:VEVENT
BEGIN:VEVENT
DTSTART;TZID=America/Denver:20250910T083000
DTEND;TZID=America/Denver:20250910T150000
DTSTAMP:20260424T090446
CREATED:20250813T214744Z
LAST-MODIFIED:20250813T214744Z
UID:22420-1757493000-1757516400@fraservalleylions.org
SUMMARY:Lions Vision Screening at East Grand Elementary School
DESCRIPTION:
URL:https://fraservalleylions.org/event/lions-vision-screening-at-east-grand-elementary-school-2/
LOCATION:East Grand Elementary School\, 241 W Diamond Ave\, Granby\, CO\, 80446\, United States
END:VEVENT
BEGIN:VEVENT
DTSTART;TZID=America/Denver:20250910T091500
DTEND;TZID=America/Denver:20250910T101500
DTSTAMP:20260424T090446
CREATED:20250827T200054Z
LAST-MODIFIED:20250827T200054Z
UID:22449-1757495700-1757499300@fraservalleylions.org
SUMMARY:Grocery Pickup for Mountain Family Center Food Pantry
DESCRIPTION:
URL:https://fraservalleylions.org/event/grocery-pickup-for-mountain-family-center-food-pantry/
LOCATION:Mountain Family Center Food Pantry\, 480 E Agate Ave\, Granby\, CO\, 80446\, United States
END:VEVENT
BEGIN:VEVENT
DTSTART;TZID=America/Denver:20250910T170000
DTEND;TZID=America/Denver:20250910T180000
DTSTAMP:20260424T090446
CREATED:20250402T193117Z
LAST-MODIFIED:20250904T005657Z
UID:21821-1757523600-1757527200@fraservalleylions.org
SUMMARY:Lions Board Meeting at Jan Boynton's
DESCRIPTION:
URL:https://fraservalleylions.org/event/lions-board-meeting-5/
LOCATION:CO
END:VEVENT
BEGIN:VEVENT
DTSTART;TZID=America/Denver:20250916T073000
DTEND;TZID=America/Denver:20250916T150000
DTSTAMP:20260424T090446
CREATED:20250813T215005Z
LAST-MODIFIED:20250813T215005Z
UID:22422-1758007800-1758034800@fraservalleylions.org
SUMMARY:Lions Vision Screening at Fraser Elementary
DESCRIPTION:
URL:https://fraservalleylions.org/event/lions-vision-screening-at-fraser-elementary/
LOCATION:Fraser Elementary School\, 125 Eastom Ave\, Fraser\, Colorado\, 80442\, United States
END:VEVENT
END:VCALENDAR