BEGIN:VCALENDAR
VERSION:2.0
PRODID:-//Fraser River Valley Lions Club - ECPv6.15.20//NONSGML v1.0//EN
CALSCALE:GREGORIAN
METHOD:PUBLISH
X-ORIGINAL-URL:https://fraservalleylions.org
X-WR-CALDESC:Events for Fraser River Valley Lions Club
REFRESH-INTERVAL;VALUE=DURATION:PT1H
X-Robots-Tag:noindex
X-PUBLISHED-TTL:PT1H
BEGIN:VTIMEZONE
TZID:America/Denver
BEGIN:DAYLIGHT
TZOFFSETFROM:-0700
TZOFFSETTO:-0600
TZNAME:MDT
DTSTART:20250309T090000
END:DAYLIGHT
BEGIN:STANDARD
TZOFFSETFROM:-0600
TZOFFSETTO:-0700
TZNAME:MST
DTSTART:20251102T080000
END:STANDARD
BEGIN:DAYLIGHT
TZOFFSETFROM:-0700
TZOFFSETTO:-0600
TZNAME:MDT
DTSTART:20260308T090000
END:DAYLIGHT
BEGIN:STANDARD
TZOFFSETFROM:-0600
TZOFFSETTO:-0700
TZNAME:MST
DTSTART:20261101T080000
END:STANDARD
BEGIN:DAYLIGHT
TZOFFSETFROM:-0700
TZOFFSETTO:-0600
TZNAME:MDT
DTSTART:20270314T090000
END:DAYLIGHT
BEGIN:STANDARD
TZOFFSETFROM:-0600
TZOFFSETTO:-0700
TZNAME:MST
DTSTART:20271107T080000
END:STANDARD
END:VTIMEZONE
BEGIN:VEVENT
DTSTART;TZID=America/Denver:20260707T170000
DTEND;TZID=America/Denver:20260707T190000
DTSTAMP:20260423T121813
CREATED:20260315T192700Z
LAST-MODIFIED:20260316T172114Z
UID:23198-1783443600-1783450800@fraservalleylions.org
SUMMARY:New Member Tuesdays - Happy Hour at Vicious Cycle Brewing
DESCRIPTION:
URL:https://fraservalleylions.org/event/new-member-tuesdays-happy-hour-at-vicious-cycle-brewing/
LOCATION:Vicious Cycle Brewing\, 751 S Zerex St\, Fraser\, Colorado\, 80442
CATEGORIES:Social Gathering
END:VEVENT
BEGIN:VEVENT
DTSTART;TZID=America/Denver:20260709T170000
DTEND;TZID=America/Denver:20260709T200000
DTSTAMP:20260423T121813
CREATED:20250402T015951Z
LAST-MODIFIED:20260316T172102Z
UID:21732-1783616400-1783627200@fraservalleylions.org
SUMMARY:Thursday Night Music FoodFest - Hello Dalai - Asian Fusian - Belated observance of the Dalai Lama's Birthday (July 6)
DESCRIPTION:
URL:https://fraservalleylions.org/event/thursday-night-music-foodfest-4/
LOCATION:Headwaters Event Center\, 730 Baker Drive\, Winter Park\, CO\, 80482\, United States
CATEGORIES:Social Gathering
END:VEVENT
BEGIN:VEVENT
DTSTART;TZID=America/Denver:20260716T170000
DTEND;TZID=America/Denver:20260716T200000
DTSTAMP:20260423T121813
CREATED:20250402T020545Z
LAST-MODIFIED:20260316T172018Z
UID:21736-1784221200-1784232000@fraservalleylions.org
SUMMARY:Thursday Night Music FoodFest - Hawaiian and Pacific Island Night
DESCRIPTION:
URL:https://fraservalleylions.org/event/thursday-night-music-foodfest-5/
LOCATION:Hideaway Park\, 50 Vasquez Road\, Winter Park\, CO\, 80482\, United States
CATEGORIES:Social Gathering
END:VEVENT
BEGIN:VEVENT
DTSTART;TZID=America/Denver:20260723T170000
DTEND;TZID=America/Denver:20260723T200000
DTSTAMP:20260423T121813
CREATED:20250402T020744Z
LAST-MODIFIED:20260316T171938Z
UID:21738-1784826000-1784836800@fraservalleylions.org
SUMMARY:Thursday Night Music FoodFest - Italian Night
DESCRIPTION:
URL:https://fraservalleylions.org/event/thursday-night-music-foodfest-6/
LOCATION:Hideaway Park\, 50 Vasquez Road\, Winter Park\, CO\, 80482\, United States
CATEGORIES:Social Gathering
END:VEVENT
BEGIN:VEVENT
DTSTART;TZID=America/Denver:20260730T170000
DTEND;TZID=America/Denver:20260730T200000
DTSTAMP:20260423T121813
CREATED:20250402T021003Z
LAST-MODIFIED:20260316T171920Z
UID:21740-1785430800-1785441600@fraservalleylions.org
SUMMARY:Thursday Night Music FoodFest - Mexican - TexMex & New Mexican
DESCRIPTION:
URL:https://fraservalleylions.org/event/thursday-night-music-foodfest-7/
LOCATION:Hideaway Park\, 50 Vasquez Road\, Winter Park\, CO\, 80482\, United States
CATEGORIES:Social Gathering
END:VEVENT
BEGIN:VEVENT
DTSTART;TZID=America/Denver:20260804T170000
DTEND;TZID=America/Denver:20260804T190000
DTSTAMP:20260423T121813
CREATED:20260315T192726Z
LAST-MODIFIED:20260316T171844Z
UID:23200-1785862800-1785870000@fraservalleylions.org
SUMMARY:New Member Tuesdays - Happy Hour at Vicious Cycle Brewing
DESCRIPTION:
URL:https://fraservalleylions.org/event/new-member-tuesdays-happy-hour-at-vicious-cycle-brewing-2/
LOCATION:Vicious Cycle Brewing\, 751 S Zerex St\, Fraser\, Colorado\, 80442
CATEGORIES:Social Gathering
END:VEVENT
BEGIN:VEVENT
DTSTART;TZID=America/Denver:20260806T170000
DTEND;TZID=America/Denver:20260806T200000
DTSTAMP:20260423T121813
CREATED:20250402T021604Z
LAST-MODIFIED:20260316T171831Z
UID:21744-1786035600-1786046400@fraservalleylions.org
SUMMARY:Thursday Night Music FoodFest - Mardi Gras in August - Cajun & Creole
DESCRIPTION:
URL:https://fraservalleylions.org/event/thursday-night-music-foodfest-8/
LOCATION:Hideaway Park\, 50 Vasquez Road\, Winter Park\, CO\, 80482\, United States
CATEGORIES:Social Gathering
END:VEVENT
BEGIN:VEVENT
DTSTART;TZID=America/Denver:20260813T170000
DTEND;TZID=America/Denver:20260813T200000
DTSTAMP:20260423T121813
CREATED:20250402T021743Z
LAST-MODIFIED:20260316T171805Z
UID:21746-1786640400-1786651200@fraservalleylions.org
SUMMARY:Thursday Night Music FoodFest - Bacon Night
DESCRIPTION:
URL:https://fraservalleylions.org/event/thursday-night-music-foodfest-9/
LOCATION:Hideaway Park\, 50 Vasquez Road\, Winter Park\, CO\, 80482\, United States
CATEGORIES:Social Gathering
END:VEVENT
BEGIN:VEVENT
DTSTART;TZID=America/Denver:20260820T170000
DTEND;TZID=America/Denver:20260820T200000
DTSTAMP:20260423T121813
CREATED:20250402T022034Z
LAST-MODIFIED:20260316T171736Z
UID:21750-1787245200-1787256000@fraservalleylions.org
SUMMARY:Thursday Night Music FoodFest - Brunch for Dinner
DESCRIPTION:
URL:https://fraservalleylions.org/event/thursday-night-music-foodfest-10/
LOCATION:Hideaway Park\, 50 Vasquez Road\, Winter Park\, CO\, 80482\, United States
CATEGORIES:Social Gathering
END:VEVENT
BEGIN:VEVENT
DTSTART;TZID=America/Denver:20260827T170000
DTEND;TZID=America/Denver:20260827T200000
DTSTAMP:20260423T121813
CREATED:20250402T022138Z
LAST-MODIFIED:20260316T171723Z
UID:21752-1787850000-1787860800@fraservalleylions.org
SUMMARY:Thursday Night Music FoodFest - ??Taking suggestions
DESCRIPTION:
URL:https://fraservalleylions.org/event/thursday-night-music-foodfest-11/
LOCATION:Hideaway Park\, 50 Vasquez Road\, Winter Park\, CO\, 80482\, United States
CATEGORIES:Social Gathering
END:VEVENT
BEGIN:VEVENT
DTSTART;TZID=America/Denver:20260901T170000
DTEND;TZID=America/Denver:20260901T190000
DTSTAMP:20260423T121813
CREATED:20260315T192757Z
LAST-MODIFIED:20260316T171655Z
UID:23202-1788282000-1788289200@fraservalleylions.org
SUMMARY:New Member Tuesdays - Happy Hour at Vicious Cycle Brewing
DESCRIPTION:
URL:https://fraservalleylions.org/event/new-member-tuesdays-happy-hour-at-vicious-cycle-brewing-3/
LOCATION:Vicious Cycle Brewing\, 751 S Zerex St\, Fraser\, Colorado\, 80442
CATEGORIES:Social Gathering
END:VEVENT
BEGIN:VEVENT
DTSTART;TZID=America/Denver:20260910T170000
DTEND;TZID=America/Denver:20260910T190000
DTSTAMP:20260423T121813
CREATED:20250402T023308Z
LAST-MODIFIED:20260316T171619Z
UID:21759-1789059600-1789066800@fraservalleylions.org
SUMMARY:Thursday Night Gathering - Big Trout Brewery
DESCRIPTION:
URL:https://fraservalleylions.org/event/thursday-night-gathering-big-trout-brewery-8/
LOCATION:Big Trout Brewery\, 50 Vasquez Road\, Winter Park\, CO\, 80482
CATEGORIES:Social Gathering
END:VEVENT
BEGIN:VEVENT
DTSTART;TZID=America/Denver:20260924T170000
DTEND;TZID=America/Denver:20260924T190000
DTSTAMP:20260423T121813
CREATED:20250402T023939Z
LAST-MODIFIED:20260316T171255Z
UID:21763-1790269200-1790276400@fraservalleylions.org
SUMMARY:Thursday Night Gathering - Vicious Cycle
DESCRIPTION:
URL:https://fraservalleylions.org/event/thursday-night-gathering-big-trout-brewery-9/
LOCATION:Vicious Cycle Brewing\, 751 S Zerex St\, Fraser\, Colorado\, 80442
CATEGORIES:Social Gathering
END:VEVENT
BEGIN:VEVENT
DTSTART;TZID=America/Denver:20261001T170000
DTEND;TZID=America/Denver:20261001T190000
DTSTAMP:20260423T121813
CREATED:20250402T024623Z
LAST-MODIFIED:20260316T171239Z
UID:21765-1790874000-1790881200@fraservalleylions.org
SUMMARY:Thursday Night Gathering - Big Trout Brewery
DESCRIPTION:
URL:https://fraservalleylions.org/event/thursday-night-gathering-big-trout-brewery-10/
LOCATION:Big Trout Brewery\, 50 Vasquez Road\, Winter Park\, CO\, 80482
CATEGORIES:Social Gathering
END:VEVENT
BEGIN:VEVENT
DTSTART;TZID=America/Denver:20261006T170000
DTEND;TZID=America/Denver:20261006T190000
DTSTAMP:20260423T121813
CREATED:20260315T192827Z
LAST-MODIFIED:20260316T171153Z
UID:23204-1791306000-1791313200@fraservalleylions.org
SUMMARY:New Member Tuesdays - Happy Hour at Vicious Cycle Brewing
DESCRIPTION:
URL:https://fraservalleylions.org/event/new-member-tuesdays-happy-hour-at-vicious-cycle-brewing-4/
LOCATION:Vicious Cycle Brewing\, 751 S Zerex St\, Fraser\, Colorado\, 80442
CATEGORIES:Social Gathering
END:VEVENT
BEGIN:VEVENT
DTSTART;TZID=America/Denver:20261015T170000
DTEND;TZID=America/Denver:20261015T190000
DTSTAMP:20260423T121813
CREATED:20250402T024946Z
LAST-MODIFIED:20260316T171127Z
UID:21769-1792083600-1792090800@fraservalleylions.org
SUMMARY:Thursday Night Gathering - Vicious Cycle
DESCRIPTION:
URL:https://fraservalleylions.org/event/thursday-night-gathering-big-trout-brewery-11/
LOCATION:Vicious Cycle Brewing\, 751 S Zerex St\, Fraser\, Colorado\, 80442
CATEGORIES:Social Gathering
END:VEVENT
BEGIN:VEVENT
DTSTART;TZID=America/Denver:20261029T170000
DTEND;TZID=America/Denver:20261029T190000
DTSTAMP:20260423T121813
CREATED:20250402T025233Z
LAST-MODIFIED:20260316T171058Z
UID:21773-1793293200-1793300400@fraservalleylions.org
SUMMARY:Thursday Night Gathering - Vicious Cycle
DESCRIPTION:
URL:https://fraservalleylions.org/event/thursday-night-gathering-big-trout-brewery-12/
LOCATION:Vicious Cycle Brewing\, 751 S Zerex St\, Fraser\, Colorado\, 80442
CATEGORIES:Social Gathering
END:VEVENT
BEGIN:VEVENT
DTSTART;TZID=America/Denver:20261103T170000
DTEND;TZID=America/Denver:20261103T190000
DTSTAMP:20260423T121813
CREATED:20260315T192858Z
LAST-MODIFIED:20260316T171029Z
UID:23206-1793725200-1793732400@fraservalleylions.org
SUMMARY:New Member Tuesdays - Happy Hour at Vicious Cycle Brewing
DESCRIPTION:
URL:https://fraservalleylions.org/event/new-member-tuesdays-happy-hour-at-vicious-cycle-brewing-5/
LOCATION:Vicious Cycle Brewing\, 751 S Zerex St\, Fraser\, Colorado\, 80442
CATEGORIES:Social Gathering
END:VEVENT
BEGIN:VEVENT
DTSTART;TZID=America/Denver:20261112T170000
DTEND;TZID=America/Denver:20261112T190000
DTSTAMP:20260423T121813
CREATED:20251014T012339Z
LAST-MODIFIED:20260316T170943Z
UID:22600-1794502800-1794510000@fraservalleylions.org
SUMMARY:Thursday Night Gathering - Big Trout
DESCRIPTION:
URL:https://fraservalleylions.org/event/thursday-night-gathering-vicious-cycle-brewing/
LOCATION:Big Trout Brewery\, 50 Vasquez Road\, Winter Park\, CO\, 80482
CATEGORIES:Social Gathering
END:VEVENT
BEGIN:VEVENT
DTSTART;TZID=America/Denver:20261201T170000
DTEND;TZID=America/Denver:20261201T190000
DTSTAMP:20260423T121813
CREATED:20260315T193102Z
LAST-MODIFIED:20260316T170741Z
UID:23208-1796144400-1796151600@fraservalleylions.org
SUMMARY:New Member Tuesdays - Happy Hour at Vicious Cycle Brewing
DESCRIPTION:
URL:https://fraservalleylions.org/event/new-member-tuesdays-happy-hour-at-vicious-cycle-brewing-6/
LOCATION:Vicious Cycle Brewing\, 751 S Zerex St\, Fraser\, Colorado\, 80442
CATEGORIES:Social Gathering
END:VEVENT
END:VCALENDAR