BEGIN:VCALENDAR
VERSION:2.0
PRODID:-//Fraser River Valley Lions Club - ECPv6.15.20//NONSGML v1.0//EN
CALSCALE:GREGORIAN
METHOD:PUBLISH
X-WR-CALNAME:Fraser River Valley Lions Club
X-ORIGINAL-URL:https://fraservalleylions.org
X-WR-CALDESC:Events for Fraser River Valley Lions Club
REFRESH-INTERVAL;VALUE=DURATION:PT1H
X-Robots-Tag:noindex
X-PUBLISHED-TTL:PT1H
BEGIN:VTIMEZONE
TZID:America/Denver
BEGIN:DAYLIGHT
TZOFFSETFROM:-0700
TZOFFSETTO:-0600
TZNAME:MDT
DTSTART:20250309T090000
END:DAYLIGHT
BEGIN:STANDARD
TZOFFSETFROM:-0600
TZOFFSETTO:-0700
TZNAME:MST
DTSTART:20251102T080000
END:STANDARD
BEGIN:DAYLIGHT
TZOFFSETFROM:-0700
TZOFFSETTO:-0600
TZNAME:MDT
DTSTART:20260308T090000
END:DAYLIGHT
BEGIN:STANDARD
TZOFFSETFROM:-0600
TZOFFSETTO:-0700
TZNAME:MST
DTSTART:20261101T080000
END:STANDARD
BEGIN:DAYLIGHT
TZOFFSETFROM:-0700
TZOFFSETTO:-0600
TZNAME:MDT
DTSTART:20270314T090000
END:DAYLIGHT
BEGIN:STANDARD
TZOFFSETFROM:-0600
TZOFFSETTO:-0700
TZNAME:MST
DTSTART:20271107T080000
END:STANDARD
END:VTIMEZONE
BEGIN:VEVENT
DTSTART;TZID=America/Denver:20260421T080000
DTEND;TZID=America/Denver:20260421T090000
DTSTAMP:20260423T090745
CREATED:20251229T161148Z
LAST-MODIFIED:20260419T155917Z
UID:22758-1776758400-1776762000@fraservalleylions.org
SUMMARY:Lions Club Member Meeting - Business Meeting
DESCRIPTION:Fraser River Valley Lions Club Meeting Agenda \n4/21/2026 8:00 a.m. \nChurch Of The Eternal Hills \nCall To Order \nPledge Prayer \nGuests/New Members \nApproval of 4/7/2026 Meeting minutes \nBusiness Meeting: Brainstorm Club ideas: Lions Membership Events\, Fundraising Ideas\, Community Ideas \nOld/New Business \n\nGolf Auction Pam Meyer\nClub Needs: Time to get more involved!\n\nVolunteer hour reporter \n\n\nThursday Music in the Park Coordinator(s) \n\n\nBoard Secretary \n\nMarketing Committee update\nOpen Positions:  Thursday Night Music in the Park setup\, others?\nGrant cycle\n\nOpen Discussion \nRandom Act Of Kindness \nHappy Dollars \n50/50 \nAdjourn \nThe link to Zoom is on the website \nPlease remember your nonperishable food item(s)  to contribute toward Mountain Family Center!
URL:https://fraservalleylions.org/event/lions-club-member-meeting-business-meeting/
LOCATION:Church of the Eternal Hills\, 100 Meadows Blvd.\, Tabernash\, CO\, 80478\, United States
CATEGORIES:Meeting
END:VEVENT
END:VCALENDAR