BEGIN:VCALENDAR
VERSION:2.0
PRODID:-//Fraser River Valley Lions Club - ECPv6.15.20//NONSGML v1.0//EN
CALSCALE:GREGORIAN
METHOD:PUBLISH
X-ORIGINAL-URL:https://fraservalleylions.org
X-WR-CALDESC:Events for Fraser River Valley Lions Club
REFRESH-INTERVAL;VALUE=DURATION:PT1H
X-Robots-Tag:noindex
X-PUBLISHED-TTL:PT1H
BEGIN:VTIMEZONE
TZID:America/Denver
BEGIN:DAYLIGHT
TZOFFSETFROM:-0700
TZOFFSETTO:-0600
TZNAME:MDT
DTSTART:20240310T090000
END:DAYLIGHT
BEGIN:STANDARD
TZOFFSETFROM:-0600
TZOFFSETTO:-0700
TZNAME:MST
DTSTART:20241103T080000
END:STANDARD
BEGIN:DAYLIGHT
TZOFFSETFROM:-0700
TZOFFSETTO:-0600
TZNAME:MDT
DTSTART:20250309T090000
END:DAYLIGHT
BEGIN:STANDARD
TZOFFSETFROM:-0600
TZOFFSETTO:-0700
TZNAME:MST
DTSTART:20251102T080000
END:STANDARD
BEGIN:DAYLIGHT
TZOFFSETFROM:-0700
TZOFFSETTO:-0600
TZNAME:MDT
DTSTART:20260308T090000
END:DAYLIGHT
BEGIN:STANDARD
TZOFFSETFROM:-0600
TZOFFSETTO:-0700
TZNAME:MST
DTSTART:20261101T080000
END:STANDARD
END:VTIMEZONE
BEGIN:VEVENT
DTSTART;TZID=America/Denver:20251104T080000
DTEND;TZID=America/Denver:20251104T090000
DTSTAMP:20260423T170044
CREATED:20250402T025603Z
LAST-MODIFIED:20251102T163251Z
UID:21775-1762243200-1762246800@fraservalleylions.org
SUMMARY:Lions Club Member Meeting - Middle Park Health Update - new general surgeon Dr. Matthew Fabian
DESCRIPTION:FRVL Club Meeting Agenda \n11/3/25 8:00 a.m. \nChurch Of The Eternal Hills \n\nCall To Order \nPledge Prayer  \nGuests/New Members  \nApproval of 10/21/2025  Meeting Minutes   \nBusiness Meeting: Middle Park Health Updates \nOld/New Business \n\nTurkey Trot: Lori Orzech\nFestival of Trees: Greg and MaryJane Grooms\nRaffle Tickets for FOT: Lori Orzech\nTree Sales: Greg Orzech\nNorth Pole Project: Claudia Diamond\nForest Service Tree Cutting: \n\nRecap of our 2026 discussion \nGiving Tuesday December 2 \nDues due \nOpen Discussion \nRandom Act Of Kindness  \nTail Twister/Happy Dollars \n\nWhich continent does not have Lions Club?\nThere is no Lions Club in Antarctica as the continent does not have a permanent resident population required to sustain a local club.\n\n50/50  \nAdjourn \n  \nThe link to Zoom is on the website
URL:https://fraservalleylions.org/event/lions-club-member-meeting-15/
LOCATION:Church of the Eternal Hills\, 100 Meadows Blvd.\, Tabernash\, CO\, 80478\, United States
END:VEVENT
END:VCALENDAR