BEGIN:VCALENDAR
VERSION:2.0
PRODID:-//Fraser River Valley Lions Club - ECPv6.15.20//NONSGML v1.0//EN
CALSCALE:GREGORIAN
METHOD:PUBLISH
X-WR-CALNAME:Fraser River Valley Lions Club
X-ORIGINAL-URL:https://fraservalleylions.org
X-WR-CALDESC:Events for Fraser River Valley Lions Club
REFRESH-INTERVAL;VALUE=DURATION:PT1H
X-Robots-Tag:noindex
X-PUBLISHED-TTL:PT1H
BEGIN:VTIMEZONE
TZID:America/Denver
BEGIN:DAYLIGHT
TZOFFSETFROM:-0700
TZOFFSETTO:-0600
TZNAME:MDT
DTSTART:20240310T090000
END:DAYLIGHT
BEGIN:STANDARD
TZOFFSETFROM:-0600
TZOFFSETTO:-0700
TZNAME:MST
DTSTART:20241103T080000
END:STANDARD
BEGIN:DAYLIGHT
TZOFFSETFROM:-0700
TZOFFSETTO:-0600
TZNAME:MDT
DTSTART:20250309T090000
END:DAYLIGHT
BEGIN:STANDARD
TZOFFSETFROM:-0600
TZOFFSETTO:-0700
TZNAME:MST
DTSTART:20251102T080000
END:STANDARD
BEGIN:DAYLIGHT
TZOFFSETFROM:-0700
TZOFFSETTO:-0600
TZNAME:MDT
DTSTART:20260308T090000
END:DAYLIGHT
BEGIN:STANDARD
TZOFFSETFROM:-0600
TZOFFSETTO:-0700
TZNAME:MST
DTSTART:20261101T080000
END:STANDARD
END:VTIMEZONE
BEGIN:VEVENT
DTSTART;TZID=America/Denver:20250327T170000
DTEND;TZID=America/Denver:20250327T190000
DTSTAMP:20260424T034606
CREATED:20241204T232727Z
LAST-MODIFIED:20250316T161251Z
UID:21512-1743094800-1743102000@fraservalleylions.org
SUMMARY:Thursday Night Gathering - Big Trout Brewery
DESCRIPTION:Hope you can all join us in gathering together at the Big Trout Brewery!
URL:https://fraservalleylions.org/event/wednesday-night-gathering-december-11th/
LOCATION:Big Trout Brewery\, 50 Vasquez Road\, Winter Park\, CO\, 80482
END:VEVENT
END:VCALENDAR